BEGIN:VCALENDAR
VERSION:2.0
PRODID:-//ChamberMaster//Event Calendar 2.0//EN
METHOD:PUBLISH
X-PUBLISHED-TTL:P3D
REFRESH-INTERVAL:P3D
CALSCALE:GREGORIAN
BEGIN:VEVENT
DTSTART:20100807T180000Z
DTEND:20100807T200000Z
X-MICROSOFT-CDO-ALLDAYEVENT:FALSE
SUMMARY:Rescues and Runways
DESCRIPTION:Fashion Show featuring adoptable pets provided by Hamilton Co. Humane Society and reTails Neighborhood Pet Place.  Fashions provided by Maurices at Hamilton Town Center. This event is dedicated to the adoption of pets that need a home.  There will be a silent auction with all proceeds benefitting both orgainizations.
X-ALT-DESC;FMTTYPE=text/html:Fashion Show featuring adoptable pets provided by Hamilton Co. Humane Society and reTails Neighborhood Pet Place.  Fashions provided by Maurices at Hamilton Town Center. This event is dedicated to the adoption of pets that need a home.  There will be a silent auction with all proceeds benefitting both orgainizations.
LOCATION:located on 146th street and next to I69 at exit 10.
UID:e.1538.56
SEQUENCE:3
DTSTAMP:20260422T095548Z
URL:https://business.noblesvillechamber.com/events/details/rescues-and-runways-08-07-2010-56
END:VEVENT

END:VCALENDAR
