BEGIN:VCALENDAR
VERSION:2.0
PRODID:-//ChamberMaster//Event Calendar 2.0//EN
METHOD:PUBLISH
X-PUBLISHED-TTL:P3D
REFRESH-INTERVAL:P3D
CALSCALE:GREGORIAN
BEGIN:VEVENT
DTSTART:20120627T160000Z
DTEND:20120627T170000Z
X-MICROSOFT-CDO-ALLDAYEVENT:FALSE
SUMMARY:Ribbon Cutting
DESCRIPTION:Please come join us in a ribbon cutting ceremony for Bona Vista Programs\, Inc.  Bona Vista Programs\, Inc. is a non-profit agency who will be helping with vocational goals for Hamilton County. We would love for you to come tour our new building\, meet our staff\, and enjoy some light refreshments.
X-ALT-DESC;FMTTYPE=text/html:Please come join us in a ribbon cutting ceremony for Bona Vista Programs\, Inc.  Bona Vista Programs\, Inc. is a non-profit agency who will be helping with vocational goals for Hamilton County. We would love for you to come tour our new building\, meet our staff\, and enjoy some light refreshments.  
LOCATION:593 Westfield Rd.
UID:e.1538.318
SEQUENCE:3
DTSTAMP:20260420T221416Z
URL:https://business.noblesvillechamber.com/events/details/ribbon-cutting-06-27-2012-318
END:VEVENT

END:VCALENDAR
