BEGIN:VCALENDAR
VERSION:2.0
PRODID:-//ChamberMaster//Event Calendar 2.0//EN
METHOD:PUBLISH
X-PUBLISHED-TTL:P3D
REFRESH-INTERVAL:P3D
CALSCALE:GREGORIAN
BEGIN:VEVENT
DTSTART:20130626T140000Z
DTEND:20130626T210000Z
X-MICROSOFT-CDO-ALLDAYEVENT:FALSE
SUMMARY:Riverview Hospital Foundation 'Heartfelt Thanks Golf Tournament'
DESCRIPTION:Please join the Riverview Hospital Foundation for the 21st Annual Heartfelt Thanks Golf Outing.  Since conception\, funds rasied through this charity golf tournament are directed to Cardiology and Vascular Center. \n\nThe "Heartfelt Thanks" tournament is one of Hamilton County's premier golf outings\, providing you with a great opportunity to take a break from the office and connect with community members and business associates. Best of all\, your support will have a BIG impact on Riverview patients.\n\n\n\nTo participate\, we have 2 team options:\n\n\n\nCorporate Package - $1000\n\nThis includes:  Cart and green fees\, lunch and dinner\, on-course refreshments\, (8) Mulligans\,  (4) Raffle Tickets\,  and (4) skirts for ladies' tee off\n\n\n\nTeam Package - $750\n\nThis includes: Cart and green fees\, lunch and dinner\, and on-course refreshments    \n\n\n\nIf you are interested in sponsoring the event\, please contact Trish Oman at 317-776-7317 or toman@riverview.org.
X-ALT-DESC;FMTTYPE=text/html:Please join the Riverview Hospital Foundation for the 21st Annual Heartfelt Thanks Golf Outing.&nbsp\; Since conception\, funds rasied through this charity golf tournament are directed to Cardiology and Vascular Center.&nbsp\;<br />\nThe &ldquo\;Heartfelt Thanks&rdquo\; tournament is one of Hamilton County&rsquo\;s premier golf outings\, providing you with a great opportunity to take a break from the office and connect with community members and business associates. Best of all\, your support will have a BIG impact on Riverview patients.<br />\n<br />\nTo participate\, we have 2 team options:<br />\n<br />\nCorporate Package - $1000<br />\nThis includes:&nbsp\; Cart and green fees\,&nbsp\;lunch and dinner\, on-course refreshments\, (8) Mulligans\,&nbsp\; (4) Raffle Tickets\,&nbsp\; and (4) skirts for ladies&rsquo\; tee off<br />\n<br />\nTeam Package - $750<br />\nThis includes:&nbsp\;Cart and green fees\, lunch and dinner\, and on-course refreshments&nbsp\;&nbsp\;&nbsp\;&nbsp\;<br />\n<br />\nIf you are interested in sponsoring the event\, please contact Trish Oman at 317-776-7317 or <a href="mailto:toman@riverview.org">toman@riverview.org</a>.
LOCATION:Pebble Brook Golf Course
UID:e.1538.424
SEQUENCE:3
DTSTAMP:20260420T034325Z
URL:https://business.noblesvillechamber.com/events/details/riverview-hospital-foundation-heartfelt-thanks-golf-tournament-424
END:VEVENT

END:VCALENDAR
