BEGIN:VCALENDAR
VERSION:2.0
PRODID:-//ChamberMaster//Event Calendar 2.0//EN
METHOD:PUBLISH
X-PUBLISHED-TTL:P3D
REFRESH-INTERVAL:P3D
CALSCALE:GREGORIAN
BEGIN:VEVENT
DTSTART:20130815T113000Z
DTEND:20130815T133000Z
X-MICROSOFT-CDO-ALLDAYEVENT:FALSE
SUMMARY:Roundtable - Affordable Health Care Act for America
DESCRIPTION:The Noblesville Chamber of Commerce\n\n	Invites You To Attend a\n\n	Roundtable Discussion\n\n	Affordable Health Care Act for America\n\n	\n\n	A panel of experts will be on hand to address\n\n	the potential effects on local business\n\n	Presented by the Chamber's Business Advocacy Committee\n\n	Thursday\, August 15\, 2013\n\n	7:30 am to 9:30 am\n\n	Krieg DeVault Conference Room\n\n	Riverview Hospital\n\n	395 Wesfield Road\n\n	Noblesville\, IN  46060\n\n	(enter through the main entrance of the Women's Pavilion)\n\n	\n\n	This roundtable event is FREE\n\n	Chamber members are encouraged to attend\n\n	\n\n	REGISTRATION IS REQUESTED\n\n	Deadline to register:  Monday\, August 12th
X-ALT-DESC;FMTTYPE=text/html:<p style="text-align: center\;">\n	<span style="color:#2f4f4f\;">The Noblesville Chamber of Commerce<br />\n	Invites You To Attend a<br />\n	Roundtable Discussion</span></p>\n<p style="text-align: center\;">\n	<span style="font-size:16px\;"><span style="color: rgb(47\, 79\, 79)\;"><strong>Affordable Health Care Act for America</strong></span></span><br />\n	<br />\n	<span style="color:#2f4f4f\;">A panel of experts will be on hand to address<br />\n	the potential effects on local business</span></p>\n<p style="text-align: center\;">\n	<span style="font-size:11px\;"><em><span style="color: rgb(47\, 79\, 79)\;">Presented by the Chamber&#39\;s Business Advocacy Committee</span></em></span></p>\n<p style="text-align: center\;">\n	<span style="font-size:14px\;"><span style="color: rgb(47\, 79\, 79)\;"><strong>Thursday\, August 15\, 2013<br />\n	7:30 am to 9:30 am</strong></span></span></p>\n<p style="text-align: center\;">\n	<span style="color:#2f4f4f\;">Krieg DeVault Conference Room<br />\n	Riverview Hospital<br />\n	395 Wesfield Road<br />\n	Noblesville\, IN&nbsp\; 46060</span></p>\n<p style="text-align: center\;">\n	<span style="color:#2f4f4f\;"><span style="font-size: 11px\;"><em>(enter through the main entrance of the Women&#39\;s Pavilion)</em></span></span></p>\n<p style="text-align: center\;">\n	<br />\n	<strong><span style="color:#2f4f4f\;">This roundtable event is </span><span style="color:#800000\;">FREE</span><br />\n	<span style="color:#2f4f4f\;">Chamber members are encouraged to attend</span></strong></p>\n<p style="text-align: center\;">\n	<br />\n	<span style="font-size:14px\;"><span style="color: rgb(47\, 79\, 79)\;"><strong><u>REGISTRATION IS REQUESTED</u></strong></span></span></p>\n<p style="text-align: center\;">\n	<span style="color:#800000\;"><u><em><strong><span style="font-size:11px\;">Deadline to register:&nbsp\; Monday\, August 12th</span></strong></em></u></span></p>\n
LOCATION:Krieg DeVault Conference Room Riverview Hospital 395 Westfield Road Noblesville\, IN 46060 (enter through the main entrance of the Women's Pavilion)
UID:e.1538.506
SEQUENCE:3
DTSTAMP:20260420T004729Z
URL:https://business.noblesvillechamber.com/events/details/roundtable-affordable-health-care-act-for-america-506
END:VEVENT

END:VCALENDAR
