BEGIN:VCALENDAR
VERSION:2.0
PRODID:-//ChamberMaster//Event Calendar 2.0//EN
METHOD:PUBLISH
X-PUBLISHED-TTL:P3D
REFRESH-INTERVAL:P3D
CALSCALE:GREGORIAN
BEGIN:VEVENT
DTSTART:20130520T190000Z
DTEND:20130520T203000Z
X-MICROSOFT-CDO-ALLDAYEVENT:FALSE
SUMMARY:SARAH FISHER HARTMAN RACING DEVELOPMENT DRIVER KYLE O?GARA SET FOR APPEARANCE AT INDIANA MEMBERS CREDIT UNION
DESCRIPTION:Indiana Members Credit Union (IMCU)\, Central Indiana's largest credit union\, is happy to announce a special appearance by Kyle O'Gara\, Sarah Fisher Hartman Racing (SFHR) development driver and Roncalli High School Senior\, for the public on Monday\, May 20\, 2013\, at its Southside Branch located at 5047 Madison Avenue\, Indianapolis\, In 46227.  Kyle O'Gara\, 18\, will make his Firestone Indy Lights debut at the famous Indianapolis Motor Speedway in the Firestone Freedom 100 on May 24th\, through a partnership between Sarah Fisher Hartman Racing Development and Schmidt Peterson Motorsports (SPM)\, a team that has won seven of 10 total runnings of the Firestone Freedom 100 at IMS and six of the last 11 series championships.  \n\n	 \n\n	The IMCU staff invites you to join them for this exciting event from 3:00 pm to 4:30 pm on Monday for autographs and the opportunity to meet Kyle O'Gara and Sarah Fisher\, owner of SFHR. \n\n	 \n\n	Kyle O'Gara stated\, "The Freedom 100 has been a longtime goal of mine.  It has been awesome to see an outpouring of local support for this effort\, and one of the first to sign on was Indiana Member's Credit Union.  My family has been with IMCU for generations and to be a part of their goal to give back to the community is tremendous."\n\n	 \n\n	IMCU is proud to sponsor Kyle O'Gara.  Ron Collier\, CEO of IMCU stated\, "Indiana \n\n	Members Credit Union is delighted to partner with Kyle O'Gara for his 2013 Indy Lights \n\n	 debut and we look forward to watching him at the Indianapolis Motor Speedway for the Firestone Indy Lights Freedom 100.  We wish Kyle and his entire team the best of luck this year."  \n\n	 \n\n	For more information about the event\, please contact IMCU Branch Manager\, Kathleen Mitchell\, at 317-788-4693.   \n\n	 \n\n	About Indiana Members Credit Union\n\n	Indiana Members Credit Union\, headquartered in Indianapolis\, Indiana\, was founded in \n\n	1956 as the Indiana University Medical Center Federal Credit Union on the campus of\n\n	IUPUI\, and has since grown to 24 branches in Central Indiana\, offering members a better \n\n	financial alternative and a full array of products and services.  Traditionally offering \n\n	better rates on loans and deposits\, IMCU maintains true to its roots by "Keeping It Simple" for members.  For more information\, please visit IMCU online at www.imcu.org.
X-ALT-DESC;FMTTYPE=text/html:<p class="MsoNormal" style="margin: 0in 0in 0pt">\n	<font color="#000000"><font face="Times New Roman"><font size="3">Indiana Members Credit Union (IMCU)\, Central Indiana&rsquo\;s largest credit union\, is happy to announce a special appearance by Kyle O&rsquo\;Gara\, Sarah Fisher Hartman Racing (SFHR) development driver and Roncalli High School Senior\, for the public on Monday\, May 20\, 2013\, at its Southside Branch located at 5047 Madison Avenue\, Indianapolis\, In 46227.<span style="mso-spacerun: yes">&nbsp\; </span>Kyle O&#39\;Gara\, 18\, will make his Firestone Indy Lights debut at the famous Indianapolis Motor Speedway in the Firestone Freedom 100 on May </font><font size="3">24</font><sup><font size="2">th</font></sup><font size="3">\, through a partnership between Sarah Fisher Hartman Racing Development and Schmidt Peterson Motorsports (SPM)\, a team that has won seven of 10 total runnings of the Firestone Freedom 100 at IMS and six of the last 11 series championships. <span style="mso-spacerun: yes">&nbsp\;</span><o:p></o:p></font></font></font></p>\n<p class="MsoNormal" style="margin: 0in 0in 0pt">\n	<o:p><font color="#000000" face="Times New Roman" size="3">&nbsp\;</font></o:p></p>\n<p class="MsoNormal" style="margin: 0in 0in 0pt">\n	<font color="#000000"><font size="3"><font face="Times New Roman">The IMCU staff invites you to join them for this exciting event from 3:00 pm to 4:30 pm on Monday for autographs and the opportunity to meet Kyle O&rsquo\;Gara and Sarah Fisher\, owner of SFHR. <o:p></o:p></font></font></font></p>\n<p class="MsoNormal" style="margin: 0in 0in 0pt">\n	<o:p><font color="#000000" face="Times New Roman" size="3">&nbsp\;</font></o:p></p>\n<p class="MsoNormal" style="margin: 0in 0in 0pt">\n	<font color="#000000"><font size="3"><font face="Times New Roman">Kyle O&rsquo\;Gara stated\, &ldquo\;The Freedom 100 has been a longtime goal of mine.<span style="mso-spacerun: yes">&nbsp\; </span>It has been awesome to see an outpouring of local support for this effort\, and one of the first to sign on was Indiana Member&#39\;s Credit Union.<span style="mso-spacerun: yes">&nbsp\; </span>My family has been with IMCU for generations and to be a part of their goal to give back to the community is tremendous.&rdquo\;<o:p></o:p></font></font></font></p>\n<p class="MsoNormal" style="margin: 0in 0in 0pt">\n	<o:p><font color="#000000" face="Times New Roman" size="3">&nbsp\;</font></o:p></p>\n<p class="MsoNormal" style="margin: 0in 0in 0pt">\n	<font color="#000000"><font size="3"><font face="Times New Roman">IMCU is proud to sponsor Kyle O&rsquo\;Gara.<span style="mso-spacerun: yes">&nbsp\; </span>Ron Collier\, CEO of IMCU stated\, &ldquo\;Indiana <o:p></o:p></font></font></font></p>\n<p class="MsoNormal" style="margin: 0in 0in 0pt">\n	<font color="#000000"><font size="3"><font face="Times New Roman">Members Credit Union is delighted to partner with Kyle O&rsquo\;Gara for his 2013 Indy Lights <o:p></o:p></font></font></font></p>\n<p class="MsoNormal" style="margin: 0in 0in 0pt">\n	<o:p><font color="#000000" face="Times New Roman" size="3">&nbsp\;</font></o:p><font color="#000000"><font size="3"><font face="Times New Roman">debut and we look forward to watching him at the Indianapolis Motor Speedway for the Firestone Indy Lights Freedom 100.<span style="mso-spacerun: yes">&nbsp\; </span>We wish Kyle and his entire team the best of luck this year.&rdquo\;<span style="mso-spacerun: yes">&nbsp\; </span><o:p></o:p></font></font></font></p>\n<p class="MsoNormal" style="margin: 0in 0in 0pt">\n	<o:p><font color="#000000" face="Times New Roman" size="3">&nbsp\;</font></o:p></p>\n<p class="MsoNormal" style="margin: 0in 0in 0pt">\n	<font color="#000000"><font size="3"><font face="Times New Roman">For more information about the event\, please contact IMCU Branch Manager\, Kathleen Mitchell\, at 317-788-4693.<span style="mso-spacerun: yes">&nbsp\;&nbsp\; </span><o:p></o:p></font></font></font></p>\n<p class="MsoNormal" style="margin: 0in 0in 0pt">\n	<b style="mso-bidi-font-weight: normal"><o:p><font color="#000000" face="Times New Roman" size="3">&nbsp\;</font></o:p></b></p>\n<p class="MsoNormal" style="margin: 0in 0in 0pt">\n	<font color="#000000"><font size="3"><font face="Times New Roman"><b style="mso-bidi-font-weight: normal">About Indiana Members Credit Union</b><o:p></o:p></font></font></font></p>\n<p class="MsoNormal" style="margin: 0in 0in 0pt">\n	<font color="#000000"><font size="3"><font face="Times New Roman">Indiana Members Credit Union\, headquartered in Indianapolis\, Indiana\, was founded in <o:p></o:p></font></font></font></p>\n<p class="MsoNormal" style="margin: 0in 0in 0pt">\n	<font color="#000000"><font size="3"><font face="Times New Roman">1956 as the Indiana University Medical Center Federal Credit Union on the campus of<o:p></o:p></font></font></font></p>\n<p class="MsoNormal" style="margin: 0in 0in 0pt">\n	<font color="#000000"><font size="3"><font face="Times New Roman">IUPUI\, and has since grown to 24 branches in Central Indiana\, offering members a better <o:p></o:p></font></font></font></p>\n<p class="MsoNormal" style="margin: 0in 0in 0pt">\n	<font color="#000000"><font size="3"><font face="Times New Roman">financial alternative and a full array of products and services.<span style="mso-spacerun: yes">&nbsp\; </span>Traditionally offering <o:p></o:p></font></font></font></p>\n<p class="MsoNormal" style="margin: 0in 0in 0pt">\n	<font color="#000000" face="Times New Roman" size="3">better rates on loans and deposits\, IMCU maintains true to its roots by &ldquo\;Keeping It Simple&rdquo\; for members.<span style="mso-spacerun: yes">&nbsp\; </span>For more information\, please visit IMCU online at </font><a href="http://www.imcu.org/"><font color="#0000ff" face="Times New Roman" size="3">www.imcu.org</font></a><font size="3"><font color="#000000"><font face="Times New Roman">.<span style="mso-spacerun: yes">&nbsp\;&nbsp\;&nbsp\; </span></font></font></font><o:p></o:p></p>\n
LOCATION:IMCU's Southside Branch\, 5047 Madison Aveune\, Indianapolis\, IN 46227
UID:e.1538.443
SEQUENCE:3
DTSTAMP:20260420T053037Z
URL:https://business.noblesvillechamber.com/events/details/sarah-fisher-hartman-racing-development-driver-kyle-o-gara-set-for-appearance-at-indiana-members-credit-union-443
END:VEVENT

END:VCALENDAR
