BEGIN:VCALENDAR
VERSION:2.0
PRODID:-//ChamberMaster//Event Calendar 2.0//EN
METHOD:PUBLISH
X-PUBLISHED-TTL:P3D
REFRESH-INTERVAL:P3D
CALSCALE:GREGORIAN
BEGIN:VEVENT
DTSTART:20121029T220000Z
DTEND:20121029T233000Z
X-MICROSOFT-CDO-ALLDAYEVENT:FALSE
SUMMARY:School Board Candidate Forum 2012
DESCRIPTION:The Noblesville Chamber of Commerce will sponsor a\n\n\n	School Board Candidate Forum\n\n	\n\n	6:00 pm\n\n	Monday October 29\, 2012\n\n	\n\n	Noblesville City Hall\n\n	Council Chamber\n\n	16 S. 10th Street\n\n	Noblesville\, IN \n\n	Each of the eight (8) candidates are invited to participate in an organized exchange of ideas by answering a host of questions presented by a moderator provided by the Chamber of Commerce.\n\n	\n\n	This Candidate Forum is sponsored by the Chamber and is\n\n	 \n\n	FREE AND OPEN TO THE PUBLIC
X-ALT-DESC;FMTTYPE=text/html:<br />\n<span style="color: #003300">The Noblesville Chamber of Commerce will sponsor a</span><br />\n<p style="text-align: center">\n	<span style="color: #b22222"><strong><span style="font-size: 16px">School Board Candidate Forum</span></strong></span><br />\n	<br />\n	<span style="color: #003300"><span style="font-size: 16px"><span style="font-size: 12px">6:00 pm<br />\n	Monday October 29\, 2012<br />\n	<br />\n	Noblesville City Hall<br />\n	Council Chamber<br />\n	16 S. 10th Street<br />\n	Noblesville\, IN</span></span>&nbsp\;</span></p>\n<p>\n	<span style="color: #003300"><span style="font-size: 16px"><span style="font-size: 12px">Each of the eight (8) candidates are invited to participate in an organized exchange of ideas by answering a host of questions presented&nbsp\;by a moderator provided by the Chamber of Commerce.<br />\n	<br />\n	This Candidate Forum is sponsored by the Chamber and is</span></span></span><br />\n	&nbsp\;</p>\n<p style="text-align: center">\n	<u><span style="color: #b22222"><strong>FREE AND OPEN TO THE PUBLIC</strong></span></u></p>\n
LOCATION:Noblesville City Hall Council Chambers 16 S. 10th Street Noblesville\, IN
UID:e.1538.356
SEQUENCE:3
DTSTAMP:20260420T161006Z
URL:https://business.noblesvillechamber.com/events/details/school-board-candidate-forum-2012-356
END:VEVENT

END:VCALENDAR
