BEGIN:VCALENDAR
VERSION:2.0
PRODID:-//ChamberMaster//Event Calendar 2.0//EN
METHOD:PUBLISH
X-PUBLISHED-TTL:P3D
REFRESH-INTERVAL:P3D
CALSCALE:GREGORIAN
BEGIN:VEVENT
DTSTART:20120927T113000Z
DTEND:20120927T130000Z
X-MICROSOFT-CDO-ALLDAYEVENT:FALSE
SUMMARY:September All County Network Breakfast 2012
DESCRIPTION:All County Network Breakfast\n\n	\n\n	Power network your way to valuable business connections from six Chambers. Make contacts\, build your client database and enjoy a delicious breakfast at the same time. Come prepared with a two-minute "elevator speech" about your business and plenty of business cards and brochures to distribute as you rotate from table to table during this fast-paced event.\n\n	\n\n	Date:  Thursday\, September 27\, 2012\n\n	Time:  7:30 to 9 a.m. (registration begins at 7:15 a.m.)\n\n	Location:  The Mansion at Oak Hill\, 5801 E. 116th St.\, Carmel\n\n	Cost to participants:  $10 for members\; $20 for non-members\n\n	Reservations:  Required
X-ALT-DESC;FMTTYPE=text/html:<p>\n	<strong><span style="font-size: 16px">All County Network Breakfast</span></strong><br />\n	<br />\n	<span style="font-size: 12px">Power network your way to valuable business connections from six Chambers. Make contacts\, build your client database and enjoy a delicious breakfast at the same time. Come prepared with a two-minute &ldquo\;elevator speech&rdquo\; about your business and plenty of business cards and brochures to distribute as you rotate from table to table during this fast-paced event</span>.<br />\n	<br />\n	<span style="font-size: 12px"><strong><span style="color: windowtext"><span style="font-family: calibri\,sans-serif">Date:</span></span></strong><span style="color: windowtext"><span style="font-family: calibri\,sans-serif">&nbsp\; Thursday\, September 27\, 2012<br />\n	<strong>Time:</strong>&nbsp\; 7:30 to 9 a.m. (registration begins at 7:15 a.m.)<br />\n	<strong>Location:</strong>&nbsp\; The Mansion at Oak Hill\, 5801 E. 116th St.\, Carmel<br />\n	<strong>Cost to participants:</strong>&nbsp\; $10 for members\; $20 for non-members<br />\n	<strong>Reservations:</strong>&nbsp\; Required&nbsp\;</span></span></span><br />\n	<br />\n	&nbsp\;</p>\n
LOCATION:The Mansion at Oak HIll 5801 E. 116th Street Carmel\, IN 460333
UID:e.1538.336
SEQUENCE:3
DTSTAMP:20260420T173952Z
URL:https://business.noblesvillechamber.com/events/details/september-all-county-network-breakfast-336
END:VEVENT

END:VCALENDAR
