BEGIN:VCALENDAR
VERSION:2.0
PRODID:-//ChamberMaster//Event Calendar 2.0//EN
METHOD:PUBLISH
X-PUBLISHED-TTL:P3D
REFRESH-INTERVAL:P3D
CALSCALE:GREGORIAN
BEGIN:VEVENT
DTSTART:20130718T123000Z
DTEND:20130718T213000Z
X-MICROSOFT-CDO-ALLDAYEVENT:FALSE
SUMMARY:ServSafe Food Handler Certification
DESCRIPTION:Designed for anyone currently working in an industry that requires food handling\, the ServSafe Food Handler Certification training covers five key areas:  Basic Food Safety\, Personal Hygiene\, Time & Temperature\, Cross-contamination & Allergens\, Cleaning & Sanitation. \n\n\n\nIvy Tech boasts a 100% pass rate since the program was introduced in early 2012.  The $135 course fee includes instruction time\, the most current edition of the ServSafe Essentials textbook and the certification exam voucher.
X-ALT-DESC;FMTTYPE=text/html:Designed for anyone currently working in an industry that requires food handling\, the ServSafe Food Handler Certification training covers five key areas:&nbsp\; Basic Food Safety\, Personal Hygiene\, Time &amp\; Temperature\, Cross-contamination &amp\; Allergens\, Cleaning &amp\; Sanitation.&nbsp\;<br />\n<br />\nIvy Tech boasts a 100% pass rate since the program was introduced in early 2012.&nbsp\; The $135 course fee includes instruction time\, the most current edition of the ServSafe Essentials textbook and the certification exam voucher.&nbsp\; 
LOCATION:Ivy Tech Community College - Avon Campus 7508 Beechwood Centre Rd.\, Avon\, Indiana 46123
UID:e.1538.450
SEQUENCE:3
DTSTAMP:20260420T020922Z
URL:https://business.noblesvillechamber.com/events/details/servsafe-food-handler-certification-450
END:VEVENT

END:VCALENDAR
