BEGIN:VCALENDAR
VERSION:2.0
PRODID:-//ChamberMaster//Event Calendar 2.0//EN
METHOD:PUBLISH
X-PUBLISHED-TTL:P3D
REFRESH-INTERVAL:P3D
CALSCALE:GREGORIAN
BEGIN:VEVENT
DTSTART:20140213T230000Z
DTEND:20140214T010000Z
X-MICROSOFT-CDO-ALLDAYEVENT:FALSE
SUMMARY:Seven Threats To Your Family's Security
DESCRIPTION:Hunter Law Office presents a free interactive workshop focusing on the "Seven Threats to You and Your Family's Security and How to Avoid Them". The workshop helps families plan for life with all its unexpected twists and turns that inevitably take us off course. We help families and businesses protect assets against loss from lawsuits\, nursing homes\, childrens' indiscretions\, estate taxes\, and provide estate planning for business succession. PLAN WHILE YOU CAN! Space is limited. To register\, please do so via our website at: http://www.hunterlawoffice.net/Estate-Planning-workshops.php --or-- calling the office at (317) 863-2030.
X-ALT-DESC;FMTTYPE=text/html:Hunter Law Office presents a free interactive workshop focusing on the &quot\;Seven Threats to You and Your Family&#39\;s Security and How to Avoid Them&quot\;. The workshop helps families plan for life with all its unexpected twists and turns that inevitably take us off course. We help families and businesses protect assets against loss from lawsuits\, nursing homes\, childrens&#39\; indiscretions\, estate taxes\, and provide estate planning for business succession. PLAN WHILE YOU CAN! Space is limited. To register\, please do so via our website at: http://www.hunterlawoffice.net/Estate-Planning-workshops.php --or-- calling the office at (317) 863-2030.
LOCATION:9090 East 131st Street\, Fishers\, Indiana 46038 (Delaware Township Government Center)
UID:e.1538.568
SEQUENCE:3
DTSTAMP:20260419T171742Z
URL:https://business.noblesvillechamber.com/events/details/seven-threats-to-your-family-s-security-02-13-2014-568
END:VEVENT

END:VCALENDAR
