BEGIN:VCALENDAR
VERSION:2.0
PRODID:-//ChamberMaster//Event Calendar 2.0//EN
METHOD:PUBLISH
X-PUBLISHED-TTL:P3D
REFRESH-INTERVAL:P3D
CALSCALE:GREGORIAN
BEGIN:VEVENT
DTSTART:20100930T223000Z
DTEND:20101001T013000Z
X-MICROSOFT-CDO-ALLDAYEVENT:FALSE
SUMMARY:"Shaken Not Stirred" Martini Party
DESCRIPTION:Who will be our next winner????  Come and vote for your favorite martini & appetizer at Promising Futures of Central Indiana's Fourth Annual ''Shaken Not Stirred'' Martini Party on September 30\, 2010. This event will be held at the Ritz Charles\, 12156 North Meridian Street\, Carmel.  The fun begins at 6:30 with registration beginning at 6:00pm.  \nEnjoy great live music while tasting martinis and appetizers then voting for your favorite.  We will crown a winner at the end of the night! Karen Hensel from WISH TV will emcee the evening.  There will be a great silent and live auction and special speakers.  Tickets are $75.00 per person.\nFor more information on sponsorships and tickets please visit www.promisingfutures.org or contact Michele Whelchel at 773-6342 or mwhelchel@promisingfutures.org.
X-ALT-DESC;FMTTYPE=text/html:Who will be our next winner????  Come and vote for your favorite martini & appetizer at Promising Futures of Central Indiana's Fourth Annual ''Shaken Not Stirred'' Martini Party on September 30\, 2010. This event will be held at the Ritz Charles\, 12156 North Meridian Street\, Carmel.  The fun begins at 6:30 with registration beginning at 6:00pm.  \nEnjoy great live music while tasting martinis and appetizers then voting for your favorite.  We will crown a winner at the end of the night! Karen Hensel from WISH TV will emcee the evening.  There will be a great silent and live auction and special speakers.  Tickets are $75.00 per person.\nFor more information on sponsorships and tickets please visit www.promisingfutures.org or contact Michele Whelchel at 773-6342 or mwhelchel@promisingfutures.org.  \n
LOCATION:The Ritz Charles
UID:e.1538.66
SEQUENCE:3
DTSTAMP:20260422T080259Z
URL:https://business.noblesvillechamber.com/events/details/shaken-not-stirred-martini-party-09-30-2010-66
END:VEVENT

END:VCALENDAR
