BEGIN:VCALENDAR
VERSION:2.0
PRODID:-//ChamberMaster//Event Calendar 2.0//EN
METHOD:PUBLISH
X-PUBLISHED-TTL:P3D
REFRESH-INTERVAL:P3D
CALSCALE:GREGORIAN
BEGIN:VEVENT
DTSTART:20130803T003000Z
DTEND:20130803T023000Z
X-MICROSOFT-CDO-ALLDAYEVENT:FALSE
SUMMARY:Shakespeare in the Park
DESCRIPTION:Romeo and Juliet\n\nA classic Shakespearian Masterpiece. One of the all time most popular of all plays by the Bard.\n\n\n\nLove\, romance\, fighting\, death\, all the classic components of the great theatre.\n\n\n\nDirected by Ryan Shelton\n\n\n\nBring your lawn chairs and blankets and picnic with us!
X-ALT-DESC;FMTTYPE=text/html:<span style="font-size:28px\;"><strong><span size="2"><span face="Arial" style="font-family: Arial\;"><span color="#333333" style="color: rgb(51\, 51\, 51)\;"><span size="3"><span color="#000000" style="color: rgb(0\, 0\, 0)\;"><em><span style="text-decoration: underline\;">Romeo and Juliet</span></em></span></span></span></span></span></strong></span><br />\n<span style="font-size:20px\;">A classic Shakespearian Masterpiece. One of the all time most popular of all plays by the Bard.<br />\n<br />\nLove\, romance\, fighting\, death\, all the classic components of the great theatre.<br />\n<br />\nDirected by<em><strong> Ryan Shelton</strong></em></span><br />\n<br />\n<span style="font-size:14px\;"><span color="#333333" face="Arial" size="2" style="color: rgb(51\, 51\, 51)\; font-family: Arial\;">Bring your lawn chairs and blankets and picnic with us! </span></span>
LOCATION:Seminary Park Located at 10th & Hannibal St. Noblesville
UID:e.1538.464
SEQUENCE:3
DTSTAMP:20260420T004246Z
URL:https://business.noblesvillechamber.com/events/details/shakespeare-in-the-park-464
END:VEVENT

END:VCALENDAR
