BEGIN:VCALENDAR
VERSION:2.0
PRODID:-//ChamberMaster//Event Calendar 2.0//EN
METHOD:PUBLISH
X-PUBLISHED-TTL:P3D
REFRESH-INTERVAL:P3D
CALSCALE:GREGORIAN
BEGIN:VEVENT
DTSTART:20120413T140000Z
DTEND:20120415T210000Z
X-MICROSOFT-CDO-ALLDAYEVENT:FALSE
SUMMARY:Sheep to Blanket
DESCRIPTION:Whether you love animals\, crafts or just getting out and enjoying the country\, Sheep-to-Blanket weekend has something for everyone! See sheep dogs in action as they demonstrate their herding skills and discover all the secrets behind turning wool into warm blankets. Enjoy demonstrations and hands-on activities throughout the historic grounds that focus on spinning\, dying and weaving wool. Friday\, April 13\, Saturday\, April 14 and Sunday\, April 15 from 10 a.m. to 5 p.m. Admission is $14/adult\, $9/youth (ages 2-12)\, free for members and youth under 2. For more information\, call (317) 776-6006 or visit www.connerprairie.org.
X-ALT-DESC;FMTTYPE=text/html:Whether you love animals\, crafts or just getting out and enjoying the country\, Sheep-to-Blanket weekend has something for everyone! See sheep dogs in action as they demonstrate their herding skills and discover all the secrets behind turning wool into warm blankets. Enjoy demonstrations and hands-on activities throughout the historic grounds that focus on spinning\, dying and weaving wool. Friday\, April 13\, Saturday\, April 14 and Sunday\, April 15 from 10 a.m. to 5 p.m. Admission is $14/adult\, $9/youth (ages 2-12)\, free for members and youth under 2. For more information\, call (317) 776-6006 or visit www.connerprairie.org.
LOCATION:Conner Prairie
UID:e.1538.231
SEQUENCE:3
DTSTAMP:20260421T012141Z
URL:https://business.noblesvillechamber.com/events/details/sheep-to-blanket-04-13-2012-231
END:VEVENT

END:VCALENDAR
