BEGIN:VCALENDAR
VERSION:2.0
PRODID:-//ChamberMaster//Event Calendar 2.0//EN
METHOD:PUBLISH
X-PUBLISHED-TTL:P3D
REFRESH-INTERVAL:P3D
CALSCALE:GREGORIAN
BEGIN:VEVENT
DTSTART:20110415T140000Z
DTEND:20110417T210000Z
X-MICROSOFT-CDO-ALLDAYEVENT:FALSE
SUMMARY:Sheep to Blanket
DESCRIPTION:Start with a sheep and end with a blanket! Learn about Conner Prairie's historic breeds of sheep and watch as skilled hands remove their wooly winter coats. Try your hand at historic textile crafts and watch demonstrations of sheep herding\, spinning\, dying and weaving wool into cloth. April 15 & 16\, 10 a.m. – 5 p.m.\, and April 17\, 11 a.m. – 5 p.m. Admission is $14/adults\, $13/seniors 65+\, $9/youth (ages 2-12)\, free for members and youth under 2. Call 317.776.6006 or visit connerprairie.org for more information.
X-ALT-DESC;FMTTYPE=text/html:Start with a sheep and end with a blanket! Learn about Conner Prairie's historic breeds of sheep and watch as skilled hands remove their wooly winter coats. Try your hand at historic textile crafts and watch demonstrations of sheep herding\, spinning\, dying and weaving wool into cloth. April 15 & 16\, 10 a.m. – 5 p.m.\, and April 17\, 11 a.m. – 5 p.m. Admission is $14/adults\, $13/seniors 65+\, $9/youth (ages 2-12)\, free for members and youth under 2. Call 317.776.6006 or visit connerprairie.org for more information.
LOCATION:Conner Prairie
UID:e.1538.161
SEQUENCE:3
DTSTAMP:20260421T203757Z
URL:https://business.noblesvillechamber.com/events/details/sheep-to-blanket-04-15-2011-161
END:VEVENT

END:VCALENDAR
