BEGIN:VCALENDAR
VERSION:2.0
PRODID:-//ChamberMaster//Event Calendar 2.0//EN
METHOD:PUBLISH
X-PUBLISHED-TTL:P3D
REFRESH-INTERVAL:P3D
CALSCALE:GREGORIAN
BEGIN:VEVENT
DTSTART:20110924T140000Z
DTEND:20110924T210000Z
X-MICROSOFT-CDO-ALLDAYEVENT:FALSE
SUMMARY:Smithsonian Museum Free Day
DESCRIPTION:Join the national celebration of culture and learning at Conner Prairie. To get free admission\, you must present a Museum Day ticket good for two admissions. Tickets will be available on Smithsonian.com . Call 317.776.6006 or visit connerprairie.org for more information.
X-ALT-DESC;FMTTYPE=text/html:Join the national celebration of culture and learning at Conner Prairie. To get free admission\, you must present a Museum Day ticket good for two admissions. Tickets will be available on Smithsonian.com . Call 317.776.6006 or visit connerprairie.org for more information.
LOCATION:Conner Prairie
UID:e.1538.195
SEQUENCE:3
DTSTAMP:20260421T124934Z
URL:https://business.noblesvillechamber.com/events/details/smithsonian-museum-free-day-09-24-2011-195
END:VEVENT

END:VCALENDAR
