BEGIN:VCALENDAR
VERSION:2.0
PRODID:-//ChamberMaster//Event Calendar 2.0//EN
METHOD:PUBLISH
X-PUBLISHED-TTL:P3D
REFRESH-INTERVAL:P3D
CALSCALE:GREGORIAN
BEGIN:VEVENT
DTSTART:20100216T210000Z
DTEND:20100216T223000Z
X-MICROSOFT-CDO-ALLDAYEVENT:FALSE
SUMMARY:So\, You Want to Own Your Own Business
DESCRIPTION:Have you thought about owning your own business but are not sure where to begin? This workshop will provide information on different options for business ownership including starting a business using your own business idea\, buying an existing business\, or owning a franchise. You will also learn the steps you need to take to get started. \n\nSpeakers for this event are:\n\nNick Mathioudakis partner with Baker and Daniels\, Doug Boehme of Beacon Business Exchange and the Entreprenuer Authority\, and Joe Lazzara\, Joe's Butcher Shop.\n\nJoin us and take the first step to owning your own business!
X-ALT-DESC;FMTTYPE=text/html:Have you thought about owning your own business but are not sure where to begin? This workshop will provide information on different options for business ownership including starting a business using your own business idea\, buying an existing business\, or owning a franchise. You will also learn the steps you need to take to get started. \n\nSpeakers for this event are:\n\nNick Mathioudakis partner with Baker and Daniels\, Doug Boehme of Beacon Business Exchange and the Entreprenuer Authority\, and Joe Lazzara\, Joe's Butcher Shop.\n\nJoin us and take the first step to owning your own business!\n
LOCATION:The seminar will be held in the north conference room of the office building located on the northeast corner of 103rd and Meridian Streets.
UID:e.1538.61
SEQUENCE:3
DTSTAMP:20260422T195015Z
URL:https://business.noblesvillechamber.com/events/details/so-you-want-to-own-your-own-business-02-16-2010-61
END:VEVENT

END:VCALENDAR
