BEGIN:VCALENDAR
VERSION:2.0
PRODID:-//ChamberMaster//Event Calendar 2.0//EN
METHOD:PUBLISH
X-PUBLISHED-TTL:P3D
REFRESH-INTERVAL:P3D
CALSCALE:GREGORIAN
BEGIN:VEVENT
DTSTART:20130924T213000Z
DTEND:20130924T230000Z
X-MICROSOFT-CDO-ALLDAYEVENT:FALSE
SUMMARY:Speed Networking at The Golden Corral in Noblesville
DESCRIPTION:WHAT TO EXPECT\n\nYou will sit around a table with 6-8 other local business professionals and then   after approximately 20\n\nminutes   you will switch to another table to meet 6-8 other local business professionals. This rotation will\n\nhappen three times during the event.\n\n\n\nTICKETS\n\nThis event is free! Click on the link below to register.\n\nIf you would like to eat after the session\, we are offering our all you can eat buffet at a discounted price\n\nof $11.50 which includes beverage\, tax and gratuity. We have found the time spent eating together after\n\nthe meeting in a casual\, social situation is where you are able to really cement relationships to build your\n\nbusiness. It is not necessary to eat to participate in the speed networking.\n\n\n\nIf you have any questions or need more information\, please e-mail Paul Dworkin at pmdworkin888@aol.com\n\nor call him at (317) 679-1781.\n\n\n\nClick on the link below to register for this event online:\n\nhttp://networkingatGCnoblesville.eventbrite.com/
X-ALT-DESC;FMTTYPE=text/html:<br />\nWHAT TO EXPECT<br />\nYou will sit around a table with 6-8 other local business professionals and then &ndash\; after approximately 20<br />\nminutes &ndash\; you will switch to another table to meet 6-8 other local business professionals. This rotation will<br />\nhappen three times during the event.<br />\n<br />\nTICKETS<br />\nThis event is free! Click on the link below to register.<br />\nIf you would like to eat after the session\, we are offering our all you can eat buffet at a discounted price<br />\nof $11.50 which includes beverage\, tax and gratuity. We have found the time spent eating together after<br />\nthe meeting in a casual\, social situation is where you are able to really cement relationships to build your<br />\nbusiness. It is not necessary to eat to participate in the speed networking.<br />\n<br />\nIf you have any questions or need more information\, please e-mail Paul Dworkin at pmdworkin888@aol.com<br />\nor call him at (317) 679-1781.<br />\n<br />\nClick on the link below to register for this event online:<br />\n<a href="http://networkingatGCnoblesville.eventbrite.com/">http://networkingatGCnoblesville.eventbrite.com/</a><br />\n
LOCATION:Golden Corral in Noblesville 15755 North Pointe Blvd Noblesville\, IN 46060
UID:e.1538.526
SEQUENCE:3
DTSTAMP:20260419T231755Z
URL:https://business.noblesvillechamber.com/events/details/speed-networking-at-the-golden-corral-in-noblesville-526
END:VEVENT

END:VCALENDAR
