BEGIN:VCALENDAR
VERSION:2.0
PRODID:-//ChamberMaster//Event Calendar 2.0//EN
METHOD:PUBLISH
X-PUBLISHED-TTL:P3D
REFRESH-INTERVAL:P3D
CALSCALE:GREGORIAN
BEGIN:VEVENT
DTSTART:20100911T214500Z
DTEND:20100912T010000Z
X-MICROSOFT-CDO-ALLDAYEVENT:FALSE
SUMMARY:Spirit of the Prairie
DESCRIPTION:Conner Prairie's annual Spirit of the Prairie Awards Dinner will celebrate extraordinary individuals who've created distinctly American stories with their vision\, passion\, dedication and courage. Each of them exemplifies the spirit of endeavor that created the rich and ever-changing tapestry of the United States. This festive event on Conner Prairie's grounds begins with a cocktail reception with honorees at 5:45 p.m.\, followed by dinner and awards presentation at 7 p.m. Reservations required. Call 317.776.6000 ext. 291 or visit connerprairie.org for more information.
X-ALT-DESC;FMTTYPE=text/html:Conner Prairie's annual Spirit of the Prairie Awards Dinner will celebrate extraordinary individuals who've created distinctly American stories with their vision\, passion\, dedication and courage. Each of them exemplifies the spirit of endeavor that created the rich and ever-changing tapestry of the United States. This festive event on Conner Prairie's grounds begins with a cocktail reception with honorees at 5:45 p.m.\, followed by dinner and awards presentation at 7 p.m. Reservations required. Call 317.776.6000 ext. 291 or visit connerprairie.org for more information.
LOCATION:Conner Prairie Interactive History Park
UID:e.1538.57
SEQUENCE:3
DTSTAMP:20260422T080532Z
URL:https://business.noblesvillechamber.com/events/details/spirit-of-the-prairie-09-11-2010-57
END:VEVENT

END:VCALENDAR
