BEGIN:VCALENDAR
VERSION:2.0
PRODID:-//ChamberMaster//Event Calendar 2.0//EN
METHOD:PUBLISH
X-PUBLISHED-TTL:P3D
REFRESH-INTERVAL:P3D
CALSCALE:GREGORIAN
BEGIN:VEVENT
DTSTART:20120410T170000Z
DTEND:20120410T170000Z
X-MICROSOFT-CDO-ALLDAYEVENT:FALSE
SUMMARY:Splurge Shopping Parties
DESCRIPTION:Book a private shopping party at your maurices Store in Hamilton Town Center.  Hostess recieves 30% off regular priced merchandise and her guests receive 15%. Spluges are usually held on Sundays from 6:00 PM to 8:00 PM but can be arranged to suit your schedule.  Great for Birthdays\, Girl's Night Out\, Wedding Parties or just a way to get a discount on your wardrobe needs.
X-ALT-DESC;FMTTYPE=text/html:Book a private shopping party at your maurices Store in Hamilton Town Center.  Hostess recieves 30% off regular priced merchandise and her guests receive 15%. Spluges are usually held on Sundays from 6:00 PM to 8:00 PM but can be arranged to suit your schedule.  Great for Birthdays\, Girl's Night Out\, Wedding Parties or just a way to get a discount on your wardrobe needs.
LOCATION:located at the Hamilton Town Center in the JCPennys wing.
UID:e.1538.270
SEQUENCE:3
DTSTAMP:20260421T013242Z
URL:https://business.noblesvillechamber.com/events/details/splurge-shopping-parties-04-10-2012-270
END:VEVENT

END:VCALENDAR
