BEGIN:VCALENDAR
VERSION:2.0
PRODID:-//ChamberMaster//Event Calendar 2.0//EN
METHOD:PUBLISH
X-PUBLISHED-TTL:P3D
REFRESH-INTERVAL:P3D
CALSCALE:GREGORIAN
BEGIN:VEVENT
DTSTART:20110407T130000Z
DTEND:20110408T190000Z
X-MICROSOFT-CDO-ALLDAYEVENT:FALSE
SUMMARY:Spring Break Camp
DESCRIPTION:''Archaeology\, Action and Art!'' \nAre your kids looking for something fun to do while on break? Sign them up for hands-on and minds-on fun while they experience what it feels like to be an archaeologist during a simulated ''dig\,'' make their own pottery\, canoe on the pond\, roast s'mores over a fire and much more. April 7 & 8\, 9 a.m. – 3 p.m. each day. For ages 6-13. Participants will need to bring their own lunch. $50/members ($55/non-members). Call 317.776.6006 or visit connerprairie.org for more information and to make reservations.
X-ALT-DESC;FMTTYPE=text/html:''Archaeology\, Action and Art!'' \nAre your kids looking for something fun to do while on break? Sign them up for hands-on and minds-on fun while they experience what it feels like to be an archaeologist during a simulated ''dig\,'' make their own pottery\, canoe on the pond\, roast s'mores over a fire and much more. April 7 & 8\, 9 a.m. – 3 p.m. each day. For ages 6-13. Participants will need to bring their own lunch. $50/members ($55/non-members). Call 317.776.6006 or visit connerprairie.org for more information and to make reservations. 
LOCATION:Conner Prairie Interactive History Park
UID:e.1538.153
SEQUENCE:3
DTSTAMP:20260421T203615Z
URL:https://business.noblesvillechamber.com/events/details/spring-break-camp-04-07-2011-153
END:VEVENT

END:VCALENDAR
