BEGIN:VCALENDAR
VERSION:2.0
PRODID:-//ChamberMaster//Event Calendar 2.0//EN
METHOD:PUBLISH
X-PUBLISHED-TTL:P3D
REFRESH-INTERVAL:P3D
CALSCALE:GREGORIAN
BEGIN:VEVENT
DTSTART:20130518T140000Z
DTEND:20130518T170000Z
X-MICROSOFT-CDO-ALLDAYEVENT:FALSE
SUMMARY:Spring Career Expo
DESCRIPTION:2013 Indiana Wesleyan University Spring Career Expo\n\n\n\nPurpose:\n\nThis event will serve as both an informational and networking opportunity for current IWU students in the college of adult and professional studies as well as the general public. We invite local businesses to provide an information table to present what kinds of qualifications are considered for employment at each company. Companies attending don't necessarily have to be hiring. We especially encourage companies who employ professionals in the areas of accounting\, human resources\, business information systems\, management and criminal justice. Businesses wanting to participate please RSVP for this event to Erin Shiely by April 12th at 317-208-4654. Or by email at erin.shiely@info.indwes.edu.
X-ALT-DESC;FMTTYPE=text/html:<strong><u>2013 Indiana Wesleyan University&nbsp\;Spring Career Expo</u><br />\n<br />\nPurpose:</strong><br />\nThis event will serve as both an informational and networking opportunity for current IWU students in the college of adult and professional studies as well as the general public. We invite local businesses to provide an information table to present what kinds of qualifications are considered for employment at each company. Companies attending don&rsquo\;t necessarily have to be hiring. We especially encourage companies who employ professionals in the areas of accounting\, human resources\, business information systems\, management and criminal justice. Businesses wanting to participate please RSVP for this event to Erin Shiely by April 12th at 317-208-4654. Or by email at erin.shiely@info.indwes.edu.<br />\n<br />\n
LOCATION:Location: Indianapolis North Campus 3777 Priority Way South Drive Indianapolis IN 46240
UID:e.1538.422
SEQUENCE:3
DTSTAMP:20260420T052439Z
URL:https://business.noblesvillechamber.com/events/details/spring-career-expo-422
END:VEVENT

END:VCALENDAR
