BEGIN:VCALENDAR
VERSION:2.0
PRODID:-//ChamberMaster//Event Calendar 2.0//EN
METHOD:PUBLISH
X-PUBLISHED-TTL:P3D
REFRESH-INTERVAL:P3D
CALSCALE:GREGORIAN
BEGIN:VEVENT
DTSTART:20120405T130000Z
DTEND:20120406T190000Z
X-MICROSOFT-CDO-ALLDAYEVENT:FALSE
SUMMARY:Spring Day Camp
DESCRIPTION:Archaeology\, Action and Art!\nAre your children looking for something fun to do while on break? Sign them up for hands-on\, interactive fun while they experience what it feels like to be an archaeologist during a simulated ''dig\,'' make their own pottery\, roast s'mores over a fire and much more. April 5 and 6\, 9 a.m. – 3 p.m. each day. For ages 6-13. Participants will need to bring their own lunch. $55/person\, $50/member. For more information or to make a reservation\, call (317) 776-6006 or visit www.connerprairie.org.
X-ALT-DESC;FMTTYPE=text/html:Archaeology\, Action and Art!\nAre your children looking for something fun to do while on break? Sign them up for hands-on\, interactive fun while they experience what it feels like to be an archaeologist during a simulated ''dig\,'' make their own pottery\, roast s'mores over a fire and much more. April 5 and 6\, 9 a.m. – 3 p.m. each day. For ages 6-13. Participants will need to bring their own lunch. $55/person\, $50/member. For more information or to make a reservation\, call (317) 776-6006 or visit www.connerprairie.org.\n
LOCATION:Conner Prairie
UID:e.1538.236
SEQUENCE:3
DTSTAMP:20260421T025531Z
URL:https://business.noblesvillechamber.com/events/details/spring-day-camp-04-05-2012-236
END:VEVENT

END:VCALENDAR
