BEGIN:VCALENDAR
VERSION:2.0
PRODID:-//ChamberMaster//Event Calendar 2.0//EN
METHOD:PUBLISH
X-PUBLISHED-TTL:P3D
REFRESH-INTERVAL:P3D
CALSCALE:GREGORIAN
BEGIN:VEVENT
DTSTART:20130801T120000Z
DTEND:20130801T160000Z
X-MICROSOFT-CDO-ALLDAYEVENT:FALSE
SUMMARY:St. Vincent Fishers Hospital Blood Drive
DESCRIPTION:The donation process takes less than an hour.  It is recommended that donars have a light snack before donating.  Most people are eligible to donate.   There are a very few causes for deferral and very few medications that  are not acceptable.\n\n\n\nIndiana Blood Center must see 550 individuals each nd every day to meet patient needs at the 60+  hospitals it supplies.
X-ALT-DESC;FMTTYPE=text/html:The donation process takes less than an hour.&nbsp\; It is recommended that donars have a light snack before donating.&nbsp\; Most people are eligible to donate.&nbsp\;&nbsp\; There are a very few causes for deferral and very few medications that&nbsp\; are not acceptable.<br />\n<br />\nIndiana Blood Center must see 550 individuals each nd every day to meet patient needs at the 60+&nbsp\; hospitals it supplies.
LOCATION:13681 Olio Road\, conference room\, Fishers\, IN 46037
UID:e.1538.489
SEQUENCE:3
DTSTAMP:20260420T004727Z
URL:https://business.noblesvillechamber.com/events/details/st-vincent-fishers-hospitalblood-drive-489
END:VEVENT

END:VCALENDAR
