BEGIN:VCALENDAR
VERSION:2.0
PRODID:-//ChamberMaster//Event Calendar 2.0//EN
METHOD:PUBLISH
X-PUBLISHED-TTL:P3D
REFRESH-INTERVAL:P3D
CALSCALE:GREGORIAN
BEGIN:VEVENT
DTSTART:20110612T220000Z
DTEND:20110613T000000Z
X-MICROSOFT-CDO-ALLDAYEVENT:FALSE
SUMMARY:St. Vincent Health and Legacy Fund Present: Coxhall Concerts in the Centerpiece
DESCRIPTION:June 12: Hamilton County Parks Department \n\nIndianapolis Municipal Band\n\n The versatile Indianapolis Municipal Band is a nearly 70 piece concert band that provides a wonderfully musical experience for the entire family. Their mission is to bring beneficial band music to a wide variety of listeners.\n\n2011 Coxhall Concerts in the Centerpiece at Coxhall Gardens   Directions\n\n2000 W. 116th Street\, Carmel\, IN 46033\n\nEnjoy a Sunday evening relaxing with friends at the beautiful Coxhall Gardens. While listening to the areas best jazz and easy listening music\, visit with family and friends. Picnicking is welcome. Concessions will not be on site. \n\nTime:   6:00 p.m. - 8:00 p.m.\nCost:    Free
X-ALT-DESC;FMTTYPE=text/html:June 12: Hamilton County Parks Department \n\nIndianapolis Municipal Band\n\n The versatile Indianapolis Municipal Band is a nearly 70 piece concert band that provides a wonderfully musical experience for the entire family. Their mission is to bring beneficial band music to a wide variety of listeners.\n\n2011 Coxhall Concerts in the Centerpiece at Coxhall Gardens   Directions\n\n2000 W. 116th Street\, Carmel\, IN 46033\n\nEnjoy a Sunday evening relaxing with friends at the beautiful Coxhall Gardens. While listening to the areas best jazz and easy listening music\, visit with family and friends. Picnicking is welcome. Concessions will not be on site. \n\nTime:   6:00 p.m. - 8:00 p.m.\nCost:    Free \n\n\n 
LOCATION:Coxhall Gardens Centerpeice
UID:e.1538.182
SEQUENCE:3
DTSTAMP:20260421T173011Z
URL:https://business.noblesvillechamber.com/events/details/st-vincent-health-and-legacy-fund-present-coxhall-concerts-in-the-centerpiece-06-12-2011-182
END:VEVENT

END:VCALENDAR
