BEGIN:VCALENDAR
VERSION:2.0
PRODID:-//ChamberMaster//Event Calendar 2.0//EN
METHOD:PUBLISH
X-PUBLISHED-TTL:P3D
REFRESH-INTERVAL:P3D
CALSCALE:GREGORIAN
BEGIN:VEVENT
DTSTART:20110626T220000Z
DTEND:20110627T000000Z
X-MICROSOFT-CDO-ALLDAYEVENT:FALSE
SUMMARY:St. Vincent Health and Legacy Fund Present: Coxhall Concerts in the Centerpiece
DESCRIPTION:June 26: Hamilton County Parks Department \n\nBill Lancton\n\n Considered to be one of the top jazz musicians in the Midwest\, Bill Lancton's smooth and powerful guitar playing will take you into another world. Whether it's his beautiful cover of the classic song\, ''Somewhere Over The Rainbow'' or the original composition\, ''Naptown Blues'' it doesn't take long to see (or hear) what makes Bill Lancton an unbelievable talent. Bill\, along with his band\, The Coalition\, can be seen at many jazz festivals and clubs from coast to coast.\n \n2011 Coxhall Concerts in the Centerpiece at Coxhall Gardens   Directions\n\n2000 W. 116th Street\, Carmel\, IN 46033\n\nEnjoy a Sunday evening relaxing with friends at the beautiful Coxhall Gardens. While listening to the areas best jazz and easy listening music\, visit with family and friends. Picnicking is welcome. Concessions will not be on site. \n\nTime:   6:00 p.m. - 8:00 p.m.\nCost:    Free
X-ALT-DESC;FMTTYPE=text/html:June 26: Hamilton County Parks Department \n\nBill Lancton\n\n Considered to be one of the top jazz musicians in the Midwest\, Bill Lancton's smooth and powerful guitar playing will take you into another world. Whether it's his beautiful cover of the classic song\, ''Somewhere Over The Rainbow'' or the original composition\, ''Naptown Blues'' it doesn't take long to see (or hear) what makes Bill Lancton an unbelievable talent. Bill\, along with his band\, The Coalition\, can be seen at many jazz festivals and clubs from coast to coast.\n \n2011 Coxhall Concerts in the Centerpiece at Coxhall Gardens   Directions\n\n2000 W. 116th Street\, Carmel\, IN 46033\n\nEnjoy a Sunday evening relaxing with friends at the beautiful Coxhall Gardens. While listening to the areas best jazz and easy listening music\, visit with family and friends. Picnicking is welcome. Concessions will not be on site. \n\nTime:   6:00 p.m. - 8:00 p.m.\nCost:    Free \n\n\n 
LOCATION:Coxhall Gardens Centerpeice
UID:e.1538.183
SEQUENCE:3
DTSTAMP:20260421T173012Z
URL:https://business.noblesvillechamber.com/events/details/st-vincent-health-and-legacy-fund-present-coxhall-concerts-in-the-centerpiece-06-26-2011-183
END:VEVENT

END:VCALENDAR
