BEGIN:VCALENDAR
VERSION:2.0
PRODID:-//ChamberMaster//Event Calendar 2.0//EN
METHOD:PUBLISH
X-PUBLISHED-TTL:P3D
REFRESH-INTERVAL:P3D
CALSCALE:GREGORIAN
BEGIN:VEVENT
DTSTART:20110710T220000Z
DTEND:20110711T000000Z
X-MICROSOFT-CDO-ALLDAYEVENT:FALSE
SUMMARY:St. Vincent Health and Legacy Fund Present: Coxhall Concerts in the Centerpiece
DESCRIPTION:July 10: Hamilton County Parks Department \n\nCarmel Brass\n\n Carmel Brass is a 16- piece brass and percussion chamber ensemble and is the only fully professional brass ensemble in the state of Indiana. Comprised of musicians from the Indianapolis Symphony Orchestra as well as the Indianapolis Chamber Orchestra\, Carmel Brass brings a variety of music such as classical\, patriotic\, seasonal\, and other traditional favorites.\n\n  \n2011 Coxhall Concerts in the Centerpiece at Coxhall Gardens   Directions\n\n2000 W. 116th Street\, Carmel\, IN 46033\n\nEnjoy a Sunday evening relaxing with friends at the beautiful Coxhall Gardens. While listening to the areas best jazz and easy listening music\, visit with family and friends. Picnicking is welcome. Concessions will not be on site. \n\nTime:   6:00 p.m. - 8:00 p.m.\nCost:    Free
X-ALT-DESC;FMTTYPE=text/html:July 10: Hamilton County Parks Department \n\nCarmel Brass\n\n Carmel Brass is a 16- piece brass and percussion chamber ensemble and is the only fully professional brass ensemble in the state of Indiana. Comprised of musicians from the Indianapolis Symphony Orchestra as well as the Indianapolis Chamber Orchestra\, Carmel Brass brings a variety of music such as classical\, patriotic\, seasonal\, and other traditional favorites.\n\n  \n2011 Coxhall Concerts in the Centerpiece at Coxhall Gardens   Directions\n\n2000 W. 116th Street\, Carmel\, IN 46033\n\nEnjoy a Sunday evening relaxing with friends at the beautiful Coxhall Gardens. While listening to the areas best jazz and easy listening music\, visit with family and friends. Picnicking is welcome. Concessions will not be on site. \n\nTime:   6:00 p.m. - 8:00 p.m.\nCost:    Free \n\n\n 
LOCATION:Coxhall Gardens Centerpeice
UID:e.1538.184
SEQUENCE:3
DTSTAMP:20260421T154825Z
URL:https://business.noblesvillechamber.com/events/details/st-vincent-health-and-legacy-fund-present-coxhall-concerts-in-the-centerpiece-07-10-2011-184
END:VEVENT

END:VCALENDAR
