BEGIN:VCALENDAR
VERSION:2.0
PRODID:-//ChamberMaster//Event Calendar 2.0//EN
METHOD:PUBLISH
X-PUBLISHED-TTL:P3D
REFRESH-INTERVAL:P3D
CALSCALE:GREGORIAN
BEGIN:VEVENT
DTSTART:20110724T220000Z
DTEND:20110725T000000Z
X-MICROSOFT-CDO-ALLDAYEVENT:FALSE
SUMMARY:St. Vincent Health and Legacy Fund Present: Coxhall Concerts in the Centerpiece
DESCRIPTION:July 24: Hamilton County Parks Department \n\nIndianapolis Jazz Orchestra\n\n The Indianapolis Jazz Orchestra is the premier big band and jazz orchestra in Indiana. With songs stemming from the Great American Songbook\, the Indianapolis Jazz Orchestra will send you back in time to those wonderful sounds of the 1940s and 1950s. Keeping with that amazing big band sound\, original songs like ''Cook The Books'' and ''Johnny One Note'' awaken the soul and keep your foot tapping. With songs the whole family can enjoy\, come and see the Indianapolis Jazz Orchestra.\n\n\n--------------------------------------------------------------------------------\n \n  \n2011 Coxhall Concerts in the Centerpiece at Coxhall Gardens   Directions\n\n2000 W. 116th Street\, Carmel\, IN 46033\n\nEnjoy a Sunday evening relaxing with friends at the beautiful Coxhall Gardens. While listening to the areas best jazz and easy listening music\, visit with family and friends. Picnicking is welcome. Concessions will not be on site. \n\nTime:   6:00 p.m. - 8:00 p.m.\nCost:    Free
X-ALT-DESC;FMTTYPE=text/html:July 24: Hamilton County Parks Department \n\nIndianapolis Jazz Orchestra\n\n The Indianapolis Jazz Orchestra is the premier big band and jazz orchestra in Indiana. With songs stemming from the Great American Songbook\, the Indianapolis Jazz Orchestra will send you back in time to those wonderful sounds of the 1940s and 1950s. Keeping with that amazing big band sound\, original songs like ''Cook The Books'' and ''Johnny One Note'' awaken the soul and keep your foot tapping. With songs the whole family can enjoy\, come and see the Indianapolis Jazz Orchestra.\n\n\n--------------------------------------------------------------------------------\n \n  \n2011 Coxhall Concerts in the Centerpiece at Coxhall Gardens   Directions\n\n2000 W. 116th Street\, Carmel\, IN 46033\n\nEnjoy a Sunday evening relaxing with friends at the beautiful Coxhall Gardens. While listening to the areas best jazz and easy listening music\, visit with family and friends. Picnicking is welcome. Concessions will not be on site. \n\nTime:   6:00 p.m. - 8:00 p.m.\nCost:    Free \n\n\n 
LOCATION:Coxhall Gardens Centerpeice
UID:e.1538.185
SEQUENCE:3
DTSTAMP:20260421T154825Z
URL:https://business.noblesvillechamber.com/events/details/st-vincent-health-and-legacy-fund-present-coxhall-concerts-in-the-centerpiece-07-24-2011-185
END:VEVENT

END:VCALENDAR
