BEGIN:VCALENDAR
VERSION:2.0
PRODID:-//ChamberMaster//Event Calendar 2.0//EN
METHOD:PUBLISH
X-PUBLISHED-TTL:P3D
REFRESH-INTERVAL:P3D
CALSCALE:GREGORIAN
BEGIN:VEVENT
DTSTART:20110610T230000Z
DTEND:20110611T020000Z
X-MICROSOFT-CDO-ALLDAYEVENT:FALSE
SUMMARY:St. Vincent Health Presents The 2011 Cool Creek Concert Series "in concert with nature"
DESCRIPTION:June 10: Hamilton County Parks Department\n \nPolkaboy\n As one of the staples for local bands in Indianapolis\, Polkaboy knows all about putting on a highly energetic and extremely entertaining show. During the summer months\, Polkaboy can be found playing in the Beirgarten at The Rathskeller with hundreds of people waiting in long lines to catch this phenomenal band perform. Their traditional polka sound and clever arrangements of pop standards like ''I Can't Take My Eyes Off Of You'' make for a show that will leave you wanting more. \n \nSt. Vincent Health Presents the Cool Creek Concert Series.  A great way to wind down the work week! Pack up the lawn chairs\, kids\, and picnic basket and head to Cool Creek Park for a fun event for the whole family!\n\nGates open at 6 p.m.\, Concerts begin at 7 p.m.\nCost: $5 per adult\, FREE for children under age of 12
X-ALT-DESC;FMTTYPE=text/html:June 10: Hamilton County Parks Department\n \nPolkaboy\n As one of the staples for local bands in Indianapolis\, Polkaboy knows all about putting on a highly energetic and extremely entertaining show. During the summer months\, Polkaboy can be found playing in the Beirgarten at The Rathskeller with hundreds of people waiting in long lines to catch this phenomenal band perform. Their traditional polka sound and clever arrangements of pop standards like ''I Can't Take My Eyes Off Of You'' make for a show that will leave you wanting more. \n \nSt. Vincent Health Presents the Cool Creek Concert Series.  A great way to wind down the work week! Pack up the lawn chairs\, kids\, and picnic basket and head to Cool Creek Park for a fun event for the whole family!\n\nGates open at 6 p.m.\, Concerts begin at 7 p.m.\nCost: $5 per adult\, FREE for children under age of 12\n\n
LOCATION:Location: Cool Creek Park Nature Center
UID:e.1538.177
SEQUENCE:3
DTSTAMP:20260421T173149Z
URL:https://business.noblesvillechamber.com/events/details/st-vincent-health-presents-the-2011-cool-creek-concert-series-in-concert-with-nature-06-10-2011-177
END:VEVENT

END:VCALENDAR
