BEGIN:VCALENDAR
VERSION:2.0
PRODID:-//ChamberMaster//Event Calendar 2.0//EN
METHOD:PUBLISH
X-PUBLISHED-TTL:P3D
REFRESH-INTERVAL:P3D
CALSCALE:GREGORIAN
BEGIN:VEVENT
DTSTART:20110617T230000Z
DTEND:20110618T020000Z
X-MICROSOFT-CDO-ALLDAYEVENT:FALSE
SUMMARY:St. Vincent Health Presents The 2011 Cool Creek Concert Series "in concert with nature"
DESCRIPTION:June 17: Hamilton County Parks Department \n\nThe Bishops\n The Bishops are one of the best cover bands in Indianapolis. With a wide variety of songs from the 1960s to the 2000s they have the uncanny ability to switch genres in a heartbeat. From Johnny Cash to Vanilla Ice to Charlie Daniels\, The Bishops will take you dancing through a musical journey. With a concentration on audience participation\, The Bishops concerts are all about simply having fun. \n  \nSt. Vincent Health Presents the Cool Creek Concert Series.  A great way to wind down the work week! Pack up the lawn chairs\, kids\, and picnic basket and head to Cool Creek Park for a fun event for the whole family!\n\nGates open at 6 p.m.\, Concerts begin at 7 p.m.\nCost: $5 per adult\, FREE for children under age of 12
X-ALT-DESC;FMTTYPE=text/html:June 17: Hamilton County Parks Department \n\nThe Bishops\n The Bishops are one of the best cover bands in Indianapolis. With a wide variety of songs from the 1960s to the 2000s they have the uncanny ability to switch genres in a heartbeat. From Johnny Cash to Vanilla Ice to Charlie Daniels\, The Bishops will take you dancing through a musical journey. With a concentration on audience participation\, The Bishops concerts are all about simply having fun. \n  \nSt. Vincent Health Presents the Cool Creek Concert Series.  A great way to wind down the work week! Pack up the lawn chairs\, kids\, and picnic basket and head to Cool Creek Park for a fun event for the whole family!\n\nGates open at 6 p.m.\, Concerts begin at 7 p.m.\nCost: $5 per adult\, FREE for children under age of 12\n\n
LOCATION:Location: Cool Creek Park Nature Center
UID:e.1538.178
SEQUENCE:3
DTSTAMP:20260421T174840Z
URL:https://business.noblesvillechamber.com/events/details/st-vincent-health-presents-the-2011-cool-creek-concert-series-in-concert-with-nature-06-17-2011-178
END:VEVENT

END:VCALENDAR
