BEGIN:VCALENDAR
VERSION:2.0
PRODID:-//ChamberMaster//Event Calendar 2.0//EN
METHOD:PUBLISH
X-PUBLISHED-TTL:P3D
REFRESH-INTERVAL:P3D
CALSCALE:GREGORIAN
BEGIN:VEVENT
DTSTART:20110624T230000Z
DTEND:20110625T020000Z
X-MICROSOFT-CDO-ALLDAYEVENT:FALSE
SUMMARY:St. Vincent Health Presents The 2011 Cool Creek Concert Series "in concert with nature"
DESCRIPTION:June 24: Hamilton County Parks Department Presents \n\nThe Snakehandlers\n The Snakehandlers are a blues/rock band from Indianapolis\, IN. Fueled by powerful guitar riffs\, stellar blues harmonica\, gritty vocals\, and solid yet raw and driving rhythms\, The Snakehandlers know how to throw a party. Whether they are playing at the legendary Slippery Noodle Inn\, or breaking it down to acoustic sessions\, this six man band will get you out of your chair and moving when that blues and rock takes over.\n   \nSt. Vincent Health Presents the Cool Creek Concert Series.  A great way to wind down the work week! Pack up the lawn chairs\, kids\, and picnic basket and head to Cool Creek Park for a fun event for the whole family!\n\nGates open at 6 p.m.\, Concerts begin at 7 p.m.\nCost: $5 per adult\, FREE for children under age of 12
X-ALT-DESC;FMTTYPE=text/html:June 24: Hamilton County Parks Department Presents \n\nThe Snakehandlers\n The Snakehandlers are a blues/rock band from Indianapolis\, IN. Fueled by powerful guitar riffs\, stellar blues harmonica\, gritty vocals\, and solid yet raw and driving rhythms\, The Snakehandlers know how to throw a party. Whether they are playing at the legendary Slippery Noodle Inn\, or breaking it down to acoustic sessions\, this six man band will get you out of your chair and moving when that blues and rock takes over.\n   \nSt. Vincent Health Presents the Cool Creek Concert Series.  A great way to wind down the work week! Pack up the lawn chairs\, kids\, and picnic basket and head to Cool Creek Park for a fun event for the whole family!\n\nGates open at 6 p.m.\, Concerts begin at 7 p.m.\nCost: $5 per adult\, FREE for children under age of 12\n\n
LOCATION:Location: Cool Creek Park Nature Center
UID:e.1538.180
SEQUENCE:3
DTSTAMP:20260421T173149Z
URL:https://business.noblesvillechamber.com/events/details/st-vincent-health-presents-the-2011-cool-creek-concert-series-in-concert-with-nature-06-24-2011-180
END:VEVENT

END:VCALENDAR
