BEGIN:VCALENDAR
VERSION:2.0
PRODID:-//ChamberMaster//Event Calendar 2.0//EN
METHOD:PUBLISH
X-PUBLISHED-TTL:P3D
REFRESH-INTERVAL:P3D
CALSCALE:GREGORIAN
BEGIN:VEVENT
DTSTART:20110708T230000Z
DTEND:20110709T020000Z
X-MICROSOFT-CDO-ALLDAYEVENT:FALSE
SUMMARY:St. Vincent Health Presents The 2011 Cool Creek Concert Series "in concert with nature"
DESCRIPTION:July 8: Hamilton County Parks Department Presents\n\nThe Flying Toasters\n\n The Flying Toasters are a staple in the Indianapolis music scene. Almost every weekend you can catch this amazing band playing hits that span from the 70's to present day. With their undeniable talent and presence on stage\, The Flying Toasters are a must see band for all. With wonderful instrumentation and powerfully stellar vocals it's no wonder that The Flying Toasters bring a party of enjoyment everywhere they play. \n\n St. Vincent Health Presents the Cool Creek Concert Series.  A great way to wind down the work week! Pack up the lawn chairs\, kids\, and picnic basket and head to Cool Creek Park for a fun event for the whole family!\n\nGates open at 6 p.m.\, Concerts begin at 7 p.m.\nCost: $5 per adult\, FREE for children under age of 12
X-ALT-DESC;FMTTYPE=text/html:July 8: Hamilton County Parks Department Presents\n\nThe Flying Toasters\n\n The Flying Toasters are a staple in the Indianapolis music scene. Almost every weekend you can catch this amazing band playing hits that span from the 70's to present day. With their undeniable talent and presence on stage\, The Flying Toasters are a must see band for all. With wonderful instrumentation and powerfully stellar vocals it's no wonder that The Flying Toasters bring a party of enjoyment everywhere they play. \n\n St. Vincent Health Presents the Cool Creek Concert Series.  A great way to wind down the work week! Pack up the lawn chairs\, kids\, and picnic basket and head to Cool Creek Park for a fun event for the whole family!\n\nGates open at 6 p.m.\, Concerts begin at 7 p.m.\nCost: $5 per adult\, FREE for children under age of 12\n\n
LOCATION:Location: Cool Creek Park Nature Center
UID:e.1538.181
SEQUENCE:3
DTSTAMP:20260421T154851Z
URL:https://business.noblesvillechamber.com/events/details/st-vincent-health-presents-the-2011-cool-creek-concert-series-in-concert-with-nature-07-08-2011-181
END:VEVENT

END:VCALENDAR
