BEGIN:VCALENDAR
VERSION:2.0
PRODID:-//ChamberMaster//Event Calendar 2.0//EN
METHOD:PUBLISH
X-PUBLISHED-TTL:P3D
REFRESH-INTERVAL:P3D
CALSCALE:GREGORIAN
BEGIN:VEVENT
DTSTART:20110715T230000Z
DTEND:20110716T020000Z
X-MICROSOFT-CDO-ALLDAYEVENT:FALSE
SUMMARY:St. Vincent Health Presents The 2011 Cool Creek Concert Series "in concert with nature"
DESCRIPTION:July 15: Hamilton County Parks Department Presents:\n\nCook and Belle\n\n Cook and Belle are a dynamic and energetic country/rock/gospel that have been traveling and performing together for the past ten years. Brett Cook's power and control mixed with Michelle Belle's smooth and uncanny vocals combine for a rich sound and wonderfully thought harmonies. As the opening acts for the likes of Deirks Bentley\, Rascal Flatts\, and Sara Evans (to name a few) it is proof that Cook and Belle are truly an extremely talented and entertaining band.\n\n\n--------------------------------------------------------------------------------\n \n\n St. Vincent Health Presents the Cool Creek Concert Series.  A great way to wind down the work week! Pack up the lawn chairs\, kids\, and picnic basket and head to Cool Creek Park for a fun event for the whole family!\n\nGates open at 6 p.m.\, Concerts begin at 7 p.m.\nCost: $5 per adult\, FREE for children under age of 12
X-ALT-DESC;FMTTYPE=text/html:July 15: Hamilton County Parks Department Presents:\n\nCook and Belle\n\n Cook and Belle are a dynamic and energetic country/rock/gospel that have been traveling and performing together for the past ten years. Brett Cook's power and control mixed with Michelle Belle's smooth and uncanny vocals combine for a rich sound and wonderfully thought harmonies. As the opening acts for the likes of Deirks Bentley\, Rascal Flatts\, and Sara Evans (to name a few) it is proof that Cook and Belle are truly an extremely talented and entertaining band.\n\n\n--------------------------------------------------------------------------------\n \n\n St. Vincent Health Presents the Cool Creek Concert Series.  A great way to wind down the work week! Pack up the lawn chairs\, kids\, and picnic basket and head to Cool Creek Park for a fun event for the whole family!\n\nGates open at 6 p.m.\, Concerts begin at 7 p.m.\nCost: $5 per adult\, FREE for children under age of 12\n\n
LOCATION:Location: Cool Creek Park Nature Center
UID:e.1538.179
SEQUENCE:3
DTSTAMP:20260421T154953Z
URL:https://business.noblesvillechamber.com/events/details/st-vincent-health-presents-the-2011-cool-creek-concert-series-in-concert-with-nature-07-15-2011-179
END:VEVENT

END:VCALENDAR
