BEGIN:VCALENDAR
VERSION:2.0
PRODID:-//ChamberMaster//Event Calendar 2.0//EN
METHOD:PUBLISH
X-PUBLISHED-TTL:P3D
REFRESH-INTERVAL:P3D
CALSCALE:GREGORIAN
BEGIN:VEVENT
DTSTART:20260624T150000Z
DTEND:20260624T170000Z
X-MICROSOFT-CDO-ALLDAYEVENT:FALSE
SUMMARY:State of the County - June 24\, 2026
DESCRIPTION:SAVE THE DATE! \n\n\n\nJoin us for our annual "State of the County" luncheon\n\nwith Hamilton County Commissioner Steve Dillinger\n\n\n\n   This annual special event provides our guests a comprehensive update on programs\, projects\, and progress led by Hamilton County.\n\n \n\nHamilton County Commissioner Steve Dillinger will deliver his annual State of the County address Wednesday\, June 24 at the Embassy Suites in Noblesville. Hosted by the Noblesville Chamber of Commerce\, the annual luncheon will offer residents and business leaders a detailed update on the county's progress and future plans.   \n\n\n\nThis event is made possible\, in part\, through sponsorship from organizations like\n\nHamilton County Tourism\n\n\nSponsorship information is available by contacting: Kristi Spehler Kristi@noblesvillechamber.com\n\n\n\n\n\nSpecial Menu this year presented by Embassy Suites\n\nSpring salad topped with fresh berries with Ranch or Strawberry vinaigrette\n\n \n\nLemon Shrimp Couscous topped with Marinated Flank Steak\n\nGrilled Asparagus\n\n \n\nStrawberry Swirl Cheesecake\n\nUltimate Chocolate Cake \n\n\n\nVegetarian\, Vegan\, Gluten Free\, Dairy Free and other food options available with advanced request. \n\n\nMost special dietary needs can be accommodated with a 14-day advance notice in writing to info@noblesvillechamber.com
X-ALT-DESC;FMTTYPE=text/html:<div style="text-align: center\;"><span style="font-size:14px\;"><strong font-size:="" new="" style="color: rgb(0\, 0\, 0)\; font-family: " times=""><span style="font-size:24px\;">SAVE THE DATE!&nbsp\;</span><br />\n<br />\nJoin us for our annual<em><span style="font-size:16px\;"> &quot\;State of the County&quot\;</span></em> luncheon<br />\nwith Hamilton County Commissioner Steve Dillinger<br />\n<br />\n&nbsp\; &nbsp\;This annual&nbsp\;special event provides our guests&nbsp\;a comprehensive update on programs\, projects\, and progress led by&nbsp\;Hamilton County.</strong></span><br />\n&nbsp\;</div>\n\n<div>Hamilton County Commissioner Steve Dillinger will deliver his annual State of the County address Wednesday\, June 24&nbsp\;at the Embassy Suites in Noblesville. Hosted by the Noblesville Chamber of Commerce\, the annual luncheon will offer residents and business leaders a detailed update on the county&rsquo\;s progress and future plans.&nbsp\; &nbsp\;</div>\n\n<div style="text-align: center\;"><br />\n<span style="font-size:14px\;"><strong font-size:="" new="" style="color: rgb(0\, 0\, 0)\; font-family: " times="">This event is made possible\, in part\, through sponsorship from organizations like<br />\n<span style="font-size:18px\;"><a href="https://www.visithamiltoncounty.com/" target="_blank">Hamilton County Tourism</a></span></strong></span></div>\n\n<div style="text-align: center\;">\n<p><span style="font-family:arial\;"><strong>Sponsorship information is available by contacting: Kristi Spehler <a href="mailto:Kristi@noblesvillechamber.com?subject=State%20of%20County%20Sponsorship%20Information%20Request">Kristi@noblesvillechamber.com</a></strong><br />\n<br />\n<br />\n<span style="font-size:14px\;"><strong><em><u>Special Menu this year presented by Embassy Suites</u></em></strong></span></span></p>\n\n<div class="x_elementToProof" data-olk-copy-source="MessageBody" style="border: 0px\; font-variant-numeric: inherit\; font-variant-east-asian: inherit\; font-variant-alternates: inherit\; font-variant-position: inherit\; font-variant-emoji: inherit\; font-stretch: inherit\; font-size: 12pt\; line-height: inherit\; font-family: Aptos\, Aptos_EmbeddedFont\, Aptos_MSFontService\, Calibri\, Helvetica\, sans-serif\; font-optical-sizing: inherit\; font-size-adjust: inherit\; font-kerning: inherit\; font-feature-settings: inherit\; font-variation-settings: inherit\; font-language-override: inherit\; margin: 0px\; padding: 0px\; vertical-align: baseline\; color: rgb(0\, 0\, 0)\;"><span style="font-family:arial\;">Spring salad topped with fresh berries with&nbsp\;Ranch or Strawberry vinaigrette</span></div>\n\n<div class="x_elementToProof" style="border: 0px\; font-variant-numeric: inherit\; font-variant-east-asian: inherit\; font-variant-alternates: inherit\; font-variant-position: inherit\; font-variant-emoji: inherit\; font-stretch: inherit\; font-size: 12pt\; line-height: inherit\; font-family: Aptos\, Aptos_EmbeddedFont\, Aptos_MSFontService\, Calibri\, Helvetica\, sans-serif\; font-optical-sizing: inherit\; font-size-adjust: inherit\; font-kerning: inherit\; font-feature-settings: inherit\; font-variation-settings: inherit\; font-language-override: inherit\; margin: 0px\; padding: 0px\; vertical-align: baseline\; color: rgb(0\, 0\, 0)\;">&nbsp\;</div>\n\n<div class="x_elementToProof" style="border: 0px\; font-variant-numeric: inherit\; font-variant-east-asian: inherit\; font-variant-alternates: inherit\; font-variant-position: inherit\; font-variant-emoji: inherit\; font-stretch: inherit\; font-size: 12pt\; line-height: inherit\; font-family: Aptos\, Aptos_EmbeddedFont\, Aptos_MSFontService\, Calibri\, Helvetica\, sans-serif\; font-optical-sizing: inherit\; font-size-adjust: inherit\; font-kerning: inherit\; font-feature-settings: inherit\; font-variation-settings: inherit\; font-language-override: inherit\; margin: 0px\; padding: 0px\; vertical-align: baseline\; color: rgb(0\, 0\, 0)\;"><span style="font-family:arial\;">Lemon Shrimp Couscous topped with Marinated Flank Steak</span></div>\n\n<div class="x_elementToProof" style="border: 0px\; font-variant-numeric: inherit\; font-variant-east-asian: inherit\; font-variant-alternates: inherit\; font-variant-position: inherit\; font-variant-emoji: inherit\; font-stretch: inherit\; font-size: 12pt\; line-height: inherit\; font-family: Aptos\, Aptos_EmbeddedFont\, Aptos_MSFontService\, Calibri\, Helvetica\, sans-serif\; font-optical-sizing: inherit\; font-size-adjust: inherit\; font-kerning: inherit\; font-feature-settings: inherit\; font-variation-settings: inherit\; font-language-override: inherit\; margin: 0px\; padding: 0px\; vertical-align: baseline\; color: rgb(0\, 0\, 0)\;"><span style="font-family:arial\;">Grilled Asparagus</span></div>\n\n<div class="x_elementToProof" style="border: 0px\; font-variant-numeric: inherit\; font-variant-east-asian: inherit\; font-variant-alternates: inherit\; font-variant-position: inherit\; font-variant-emoji: inherit\; font-stretch: inherit\; font-size: 12pt\; line-height: inherit\; font-family: Aptos\, Aptos_EmbeddedFont\, Aptos_MSFontService\, Calibri\, Helvetica\, sans-serif\; font-optical-sizing: inherit\; font-size-adjust: inherit\; font-kerning: inherit\; font-feature-settings: inherit\; font-variation-settings: inherit\; font-language-override: inherit\; margin: 0px\; padding: 0px\; vertical-align: baseline\; color: rgb(0\, 0\, 0)\;">&nbsp\;</div>\n\n<div class="x_elementToProof" style="border: 0px\; font-variant-numeric: inherit\; font-variant-east-asian: inherit\; font-variant-alternates: inherit\; font-variant-position: inherit\; font-variant-emoji: inherit\; font-stretch: inherit\; font-size: 12pt\; line-height: inherit\; font-family: Aptos\, Aptos_EmbeddedFont\, Aptos_MSFontService\, Calibri\, Helvetica\, sans-serif\; font-optical-sizing: inherit\; font-size-adjust: inherit\; font-kerning: inherit\; font-feature-settings: inherit\; font-variation-settings: inherit\; font-language-override: inherit\; margin: 0px\; padding: 0px\; vertical-align: baseline\; color: rgb(0\, 0\, 0)\;"><span style="font-family:arial\;">Strawberry Swirl Cheesecake</span></div>\n\n<div class="x_elementToProof" style="border: 0px\; font-variant-numeric: inherit\; font-variant-east-asian: inherit\; font-variant-alternates: inherit\; font-variant-position: inherit\; font-variant-emoji: inherit\; font-stretch: inherit\; font-size: 12pt\; line-height: inherit\; font-family: Aptos\, Aptos_EmbeddedFont\, Aptos_MSFontService\, Calibri\, Helvetica\, sans-serif\; font-optical-sizing: inherit\; font-size-adjust: inherit\; font-kerning: inherit\; font-feature-settings: inherit\; font-variation-settings: inherit\; font-language-override: inherit\; margin: 0px\; padding: 0px\; vertical-align: baseline\; color: rgb(0\, 0\, 0)\;"><span style="font-family:arial\;">Ultimate Chocolate Cake&nbsp\;</span></div>\n\n<p><br />\n<span style="font-family:arial\;"><strong><span style="font-size:14px\;">Vegetarian\, Vegan\, Gluten Free\, Dairy Free and other food options available with advanced request.&nbsp\;</span></strong></span></p>\n</div>\n\n<div style="text-align: center\;"><span style="font-size:14px\;"><strong font-size:="" new="" style="color: rgb(0\, 0\, 0)\; font-family: " times="">Most special dietary needs can be accommodated with a 14-day advance notice in writing to info@noblesvillechamber.com</strong></span></div>\n\n<div style="text-align: center\;"><br />\n&nbsp\;</div>\n
LOCATION:Embassy Suites & Conference Center 13700 Conference Center Drive South Noblesville
UID:e.1538.4935
SEQUENCE:3
DTSTAMP:20260420T083645Z
URL:https://business.noblesvillechamber.com/events/details/state-of-the-county-june-24-2026-4935
END:VEVENT

END:VCALENDAR
