BEGIN:VCALENDAR
VERSION:2.0
PRODID:-//ChamberMaster//Event Calendar 2.0//EN
METHOD:PUBLISH
X-PUBLISHED-TTL:P3D
REFRESH-INTERVAL:P3D
CALSCALE:GREGORIAN
BEGIN:VEVENT
DTSTART:20240626T150000Z
DTEND:20240626T170000Z
X-MICROSOFT-CDO-ALLDAYEVENT:FALSE
SUMMARY:State of the County - June 26\, 2024
DESCRIPTION:This event has sold out.  Please add your name to our waiting list through the registration process. \n\nJoin us for our annual "State of the County" luncheon with Hamilton County Commissioner Steve Dillinger.   We are returning to the Embassy Suites on June 26th for this special event where our guests will receive a comprehensive update on programs\, projects\, and progress led by Hamilton County.\n\n\n\nThis event is made possible\, in part\, through sponsorship from organizations like\n\nHamiliton County Tourism\n\nSponsorship information is available by contacting: Kristi Spehler Kristi@noblesvillechamber.com\n\nMost special dietary restrictions can be accommodated with a 7-day advance notice in writing to Tom@noblesvillechamber.com
X-ALT-DESC;FMTTYPE=text/html:<div style="text-align: center\;"><span style="font-size:14px\;"><strong><span style="color:#0000FF\;"><em>This event has&nbsp\;sold out.&nbsp\; Please&nbsp\;add&nbsp\;your name to our waiting list through the registration process.&nbsp\;</em></span></strong><br />\n<strong font-size:="" new="" style="color: rgb(0\, 0\, 0)\; font-family: " times="">Join us for our annual<em><span style="font-size:16px\;"> &quot\;State of the County&quot\;</span></em> luncheon with Hamilton County Commissioner Steve Dillinger.&nbsp\; &nbsp\;We are returning to the Embassy Suites on June 26th for this&nbsp\;special event where our guests will receive a comprehensive update on programs\, projects\, and progress led by&nbsp\;Hamilton County.<br />\n<br />\nThis event is made possible\, in part\, through sponsorship from organizations like<br />\n<span style="font-size:18px\;"><a href="https://www.visithamiltoncounty.com/" target="_blank">Hamiliton County Tourism</a></span></strong></span></div>\n\n<div style="text-align: center\;"><strong>Sponsorship information is available by contacting: Kristi Spehler <a href="mailto:Kristi@noblesvillechamber.com?subject=State%20of%20County%20Sponsorship%20Information%20Request">Kristi@noblesvillechamber.com</a></strong></div>\n\n<div style="text-align: center\;"><strong><span style="font-size:12px\;"><strong font-size:="" new="" style="color: rgb(0\, 0\, 0)\; font-family: " times="">Most special dietary restrictions can be accommodated with a 7-day advance notice in writing to Tom@noblesvillechamber.com</strong></span></strong></div>\n
LOCATION:Embassy Suites & Conference Center 13700 Conference Center Drive South Noblesville
UID:e.1538.4793
SEQUENCE:3
DTSTAMP:20260425T204936Z
URL:https://business.noblesvillechamber.com/events/details/state-of-the-county-june-26-2024-4793
END:VEVENT

END:VCALENDAR
