BEGIN:VCALENDAR
VERSION:2.0
PRODID:-//ChamberMaster//Event Calendar 2.0//EN
METHOD:PUBLISH
X-PUBLISHED-TTL:P3D
REFRESH-INTERVAL:P3D
CALSCALE:GREGORIAN
BEGIN:VEVENT
DTSTART:20120801T140000Z
DTEND:20120831T210000Z
X-MICROSOFT-CDO-ALLDAYEVENT:FALSE
SUMMARY:Taste the Past
DESCRIPTION:Join Conner Prairie Interactive History Park in the month of August and try a variety of historic recipes throughout our five themed areas. Each day will offer a fun food adventure including everything from helping knead yeast bread before it's placed in the brick oven to sampling a Civil War soldier's hardtack. If you find something tasty you like\, take a copy of the recipe and prepare it at home for family and friends. Taste the Past occurs daily throughout the month of August and is included in the price of general admission. Admission is $14/adults\, $13/seniors 65+\, $9/youth (ages 2-12)\, free for members and youth under 2. For more information\, call (317) 776-6006 or (800) 966-1836 or visit www.connerprairie.org.
X-ALT-DESC;FMTTYPE=text/html:Join Conner Prairie Interactive History Park in the month of August and try a variety of historic recipes throughout our five themed areas. Each day will offer a fun food adventure including everything from helping knead yeast bread before it&#39\;s placed in the brick oven to sampling a Civil War soldier&#39\;s hardtack. If you find something tasty you like\, take a copy of the recipe and prepare it at home for family and friends. Taste the Past occurs daily throughout the month of August and is included in the price of general admission. Admission is $14/adults\, $13/seniors 65+\, $9/youth (ages 2-12)\, free for members and youth under 2. For more information\, call (317) 776-6006 or (800) 966-1836 or visit www.connerprairie.org.
LOCATION:Conner Prairie Interactive History Park
UID:e.1538.312
SEQUENCE:3
DTSTAMP:20260420T190240Z
URL:https://business.noblesvillechamber.com/events/details/taste-the-past-08-01-2012-312
END:VEVENT

END:VCALENDAR
