BEGIN:VCALENDAR
VERSION:2.0
PRODID:-//ChamberMaster//Event Calendar 2.0//EN
METHOD:PUBLISH
X-PUBLISHED-TTL:P3D
REFRESH-INTERVAL:P3D
CALSCALE:GREGORIAN
BEGIN:VEVENT
DTSTART:20131107T160000Z
DTEND:20131107T180000Z
X-MICROSOFT-CDO-ALLDAYEVENT:FALSE
SUMMARY:Taylored Systems Technology Lunch & Learn
DESCRIPTION:Taylored Systems \n\n	    \n\n	Technology Lunch & Learn\n \n\n-- Reserve Your FREE Seat Today  \n\n-- There is such a thing as a FREE Lunch! --\n\n\n\n \n\nWho:        CEOs\, CIOs\, CFOs\, IT & Office Managers\n\nWhen:      Thurs.\, November 7\, 2013 (11:00 am   1:00 pm)\n\nWhere:     Taylored Systems\n\n                   14701 Cumberland Rd.\, Suite 100\n\n                Noblesville\, IN\n\n \n\n\n\nA Telephony Expert Will Cover:\n\n\n\n\n	\n		Making Yourself\, and Your Business\, Mobile\n	\n		How to Use Zultys' Technology to Increase\n\n\n	Productivity & Customer Satisfaction\n\n	\n		Explain Benefits & Features of Zultys 8.0\n\n\n	\n		Preview Benefits & Features of Zultys 9.0\n\n \n\n	*To Reserve Your FREE Seat & FREE Lunch\, Contact:\n\n	Mary Couch - 317-776-4000 or mcouch@taylored.com\n\n	 \n\n	*** Register to WIN a FREE iPad ***
X-ALT-DESC;FMTTYPE=text/html:<p style="text-align: center\;">\n	<span style="font-size:26px\;"><span style="color:#b22222\;"><strong><u><span style="font-family: times new roman\,serif\;">Taylored Systems </span></u></strong></span><br />\n	<strong><span style="font-family: times new roman\,serif\;"><span style="font-size:11px\;">&nbsp\;&nbsp\;&nbsp\; </span><br />\n	Technology Lunch &amp\; Learn</span></strong></span></p>\n&nbsp\;<br />\n<span style="font-size:16px\;"><strong><span style="color: rgb(31\, 73\, 125)\;"><span style="font-family: times new roman\,serif\;">-- Reserve Your</span></span></strong><strong><span style="color: rgb(192\, 0\, 0)\;"><span style="font-family: times new roman\,serif\;"> FREE</span></span></strong><strong><span style="color: rgb(31\, 73\, 125)\;"><span style="font-family: times new roman\,serif\;"> Seat Today &ndash\;</span></span></strong><br />\n<strong><span style="color: rgb(31\, 73\, 125)\;"><span style="font-family: times new roman\,serif\;">-- There <u>is</u> such a thing as a </span></span></strong><strong><span style="color: rgb(192\, 0\, 0)\;"><span style="font-family: times new roman\,serif\;">FREE Lunch</span></span></strong><strong><span style="color: rgb(31\, 73\, 125)\;"><span style="font-family: times new roman\,serif\;">! --</span></span></strong><br />\n<br />\n&nbsp\;<br />\n<span style="font-size:14px\;"><strong><u><span style="color: rgb(192\, 0\, 0)\;"><span style="font-family: times new roman\,serif\;">Who</span></span></u></strong><strong><span style="color: rgb(192\, 0\, 0)\;"><span style="font-family: times new roman\,serif\;">:</span></span></strong><strong><span style="font-family: times new roman\,serif\;"> </span></strong>&nbsp\;&nbsp\;&nbsp\; &nbsp\;&nbsp\; <strong><span style="font-family: times new roman\,serif\;">CEOs\, CIOs\, CFOs\, IT &amp\; Office Managers</span></strong><br />\n<strong><u><span style="color: rgb(192\, 0\, 0)\;"><span style="font-family: times new roman\,serif\;">When</span></span></u></strong><strong><span style="color: rgb(192\, 0\, 0)\;"><span style="font-family: times new roman\,serif\;">:</span></span></strong> &nbsp\;&nbsp\;&nbsp\;&nbsp\; <strong><u><span style="color: rgb(31\, 73\, 125)\;"><span style="font-family: times new roman\,serif\;">Thurs.\, November 7\, 2013</span></span></u></strong> <strong><span style="color: rgb(31\, 73\, 125)\;"><span style="font-family: times new roman\,serif\;">(11:00 am &ndash\; 1:00 pm)</span></span></strong><br />\n<strong><u><span style="color: rgb(192\, 0\, 0)\;"><span style="font-family: times new roman\,serif\;">Where</span></span></u></strong><strong><span style="color: rgb(192\, 0\, 0)\;"><span style="font-family: times new roman\,serif\;">:</span></span></strong><strong><span style="font-family: times new roman\,serif\;"> </span></strong>&nbsp\;&nbsp\;&nbsp\; <strong><span style="font-family: times new roman\,serif\;">Taylored Systems</span></strong><br />\n<strong><span style="font-family: times new roman\,serif\;">&nbsp\;&nbsp\;&nbsp\;&nbsp\;&nbsp\;&nbsp\;&nbsp\;&nbsp\;&nbsp\;&nbsp\;&nbsp\;&nbsp\;&nbsp\;&nbsp\;&nbsp\; </span></strong></span></span><span style="font-size:14px\;">&nbsp\;&nbsp\; </span><span style="font-size:16px\;"><span style="font-size:14px\;"><strong><span style="font-family: times new roman\,serif\;">14701 Cumberland Rd.\, Suite 100</span></strong><br />\n&nbsp\;&nbsp\;&nbsp\; &nbsp\;&nbsp\;&nbsp\; &nbsp\;&nbsp\;&nbsp\; &nbsp\;&nbsp\;&nbsp\; <strong><span style="font-family: times new roman\,serif\;">Noblesville\, IN</span></strong></span><br />\n&nbsp\;<br />\n<br />\n<span style="color:#b22222\;"><strong><u><span style="font-family: times new roman\,serif\;">A Telephony Expert Will Cover</span></u><span style="font-family: times new roman\,serif\;">:</span></strong></span></span><br />\n<br />\n<ul>\n	<li style="margin-bottom:0in\;margin-bottom:.0001pt\;">\n		<span style="font-size:14px\;"><strong><u><span style="font-family: times new roman\,serif\;">Making Yourself\, and Your Business\, Mobile</span></u></strong></span></li>\n	<li style="margin-bottom:0in\;margin-bottom:.0001pt\;">\n		<span style="font-size:14px\;"><strong><u><span style="font-family: times new roman\,serif\;">How to Use Zultys&rsquo\; Technology to Increase</span></u></strong></span></li>\n</ul>\n<div style="margin-left: 80px\;">\n	<span style="font-size:14px\;"><strong><u><span style="font-family: times new roman\,serif\;">Productivity &amp\; Customer Satisfaction</span></u></strong></span></div>\n<ul>\n	<li style="margin-top:0in\;margin-right:0in\;margin-bottom:0in\;margin-bottom:.0001pt\;">\n		<span style="font-size:14px\;"><strong><u><span style="font-family: times new roman\,serif\;">Explain Benefits &amp\; Features of Zultys 8.0</span></u></strong></span></li>\n</ul>\n<ul>\n	<li style="margin-top:0in\;margin-right:0in\;margin-bottom:0in\;margin-bottom:.0001pt\;">\n		<span style="font-size:14px\;"><strong><u><span style="font-family: times new roman\,serif\;">Preview Benefits &amp\; Features of Zultys 9.0</span></u></strong></span></li>\n</ul>\n<span style="font-size:16px\;">&nbsp\;</span>\n<div style="text-align: center\;">\n	<span style="font-size:16px\;"><strong><span style="color: rgb(192\, 0\, 0)\;"><span style="font-family: times new roman\,serif\;">*</span></span></strong><strong><u><span style="font-family: times new roman\,serif\;">To Reserve Your <span style="color: rgb(192\, 0\, 0)\;">FREE</span> Seat &amp\; <span style="color: rgb(192\, 0\, 0)\;">FREE</span></span> Lunch\, Contact</u></strong><strong><span style="font-family: times new roman\,serif\;">:</span></strong><br />\n	<strong><span style="font-family: times new roman\,serif\;">Mary Couch - 317-776-4000 or </span></strong><a href="mailto:mcouch@taylored.com"><strong><span style="font-family: times new roman\,serif\;">mcouch@taylored.com</span></strong></a><br />\n	&nbsp\;<br />\n	<strong><span style="color: rgb(146\, 0\, 0)\;"><span style="font-family: times new roman\,serif\;">*** </span></span></strong><strong><span style="color: rgb(146\, 0\, 0)\;"><span style="font-family: times new roman\,serif\;">Register to WIN a </span></span></strong><strong><span style="color: rgb(146\, 0\, 0)\;"><span style="font-family: times new roman\,serif\;">FREE </span></span></strong><strong><span style="color: rgb(146\, 0\, 0)\;"><span style="font-family: times new roman\,serif\;">iPad</span></span></strong><strong><span style="color: rgb(146\, 0\, 0)\;"><span style="font-family: times new roman\,serif\;"> ***</span></span></strong></span></div>\n
LOCATION:Taylored Systems 14701 Cumberland Road\, Suite 100 Noblesville\, IN
UID:e.1538.530
SEQUENCE:3
DTSTAMP:20260419T201047Z
URL:https://business.noblesvillechamber.com/events/details/taylored-systems-technology-lunch-learn-530
END:VEVENT

END:VCALENDAR
