BEGIN:VCALENDAR
VERSION:2.0
PRODID:-//ChamberMaster//Event Calendar 2.0//EN
METHOD:PUBLISH
X-PUBLISHED-TTL:P3D
REFRESH-INTERVAL:P3D
CALSCALE:GREGORIAN
BEGIN:VEVENT
DTSTART:20120920T190000Z
DTEND:20120920T230000Z
X-MICROSOFT-CDO-ALLDAYEVENT:FALSE
SUMMARY:Taylored Systems Technology Showcase & Business After Hours
DESCRIPTION:Taylored Systems to Celebrate\n\n	30th Anniversary\n\n	with\n\n	Business Technology Showcase\n\n	\n\n	"Heads Up/Save-The-Date" Alert\n\n	\n\n	\n\n	Taylored Systems will be hosting a Technology Showcase/30th Anniversary Celebration/Open House. The date will be Thursday\, September 20\, 2012 -- 3:00 pm - 7:00 pm.\n\n	More details will be announced soon. Please block this date off and plan to attend.\n\n	\n\n	I-Pad Give-away\n\n	\n\n	Come for our special speaker and visit display areas showcasing the future's latest business technologies and "Ask The Experts!"\n\n	\n\n	Enjoy food and beverages\, register to win prizes (Including an I-Pad)\, and help us celebrate Taylored Systems' 30th Anniversary.\n\n	\n\n	Why Should I Attend?\n\n\nTaylored Systems and business technology have gone through many changes over the last 30 years. Did you know Taylored Systems can also assist with IT support\, access controls\, and video surveillance? You can have all the tools of your office   right in your pocket.\n\n\n\nIf it's been a while since you have looked at your businesses technology\, this will be the perfect time to discover all the new possibilities\, talk to the experts\, and hopefully find holes that need to be filled or a bottom line that can be increased!\n\n\n	Be sure to Save-The-Date   Thursday\, September 20\, 2012\n\n	Come join the fun. Thanks for your support.\n\n	\n\n	For more information\, contact mcouch@taylored.com or call 317-776-4000.
X-ALT-DESC;FMTTYPE=text/html:<p style="text-align: center">\n	<span style="font-family: times new roman"><big><strong><span style="color: rgb(0\,0\,255)">Taylored Systems to Celebrate<br />\n	30th Anniversary<br />\n	with<br />\n	Business Technology Showcase</span><br />\n	<br />\n	<span style="color: rgb(255\,0\,0)">&ldquo\;Heads Up/Save-The-Date&rdquo\; Alert</span></strong><br />\n	<br />\n	<br />\n	<strong>Taylored Systems </strong>will be hosting a <strong>Technology Showcase/30th Anniversary Celebration/Open House</strong>. The date will be <strong>Thursday\, September 20\, 2012 -- 3:00 pm - 7:00 pm</strong>.<br />\n	More details will be announced soon. Please block this date off and plan to attend.<br />\n	<br />\n	<u><strong>I-Pad Give-away</strong></u><br />\n	<br />\n	Come for our <strong>special speaker</strong> and visit <strong>display areas showcasing the future&rsquo\;s latest business technologies and &ldquo\;Ask The Experts!&rdquo\;</strong><br />\n	<br />\n	Enjoy<strong> food</strong> and<strong> beverages\,</strong> register to win <strong>prizes</strong> <strong>(Including an I-Pad)</strong>\, and help us celebrate <strong>Taylored Systems&rsquo\; 30th Anniversary.</strong><br />\n	<br />\n	<u><strong>Why Should I Attend?</strong></u></big></span></p>\n<br />\n<span style="font-family: times new roman"><big>Taylored Systems and business technology have gone through many changes over the last 30 years. Did you know Taylored Systems can also assist with IT support\, access controls\, and video surveillance? You can have all the tools of your office &hellip\; right in your pocket.<br />\n<br />\nIf it&rsquo\;s been a while since you have looked at your businesses technology\, this will be the perfect time to discover all the new possibilities\, talk to the experts\, and hopefully find holes that need to be filled or a bottom line that can be increased!</big></span><br />\n<p style="text-align: center">\n	<span style="font-family: times new roman"><big>Be sure to Save-The-Date &hellip\; <strong>Thursday\, September 20\, 2012</strong><br />\n	Come join the fun. Thanks for your support.<br />\n	<br />\n	For more information\, contact <span style="color: rgb(0\,0\,255)">mcouch@taylored.com</span> or call 317-776-4000.</big></span></p>\n
LOCATION:Taylored Systems 14701 Cumberland Rd.\, Suite 100 Noblesville\, IN 46060
UID:e.1538.331
SEQUENCE:3
DTSTAMP:20260420T174059Z
URL:https://business.noblesvillechamber.com/events/details/taylored-systems-technology-showcase-business-after-hours-331
END:VEVENT

END:VCALENDAR
