BEGIN:VCALENDAR
VERSION:2.0
PRODID:-//ChamberMaster//Event Calendar 2.0//EN
METHOD:PUBLISH
X-PUBLISHED-TTL:P3D
REFRESH-INTERVAL:P3D
CALSCALE:GREGORIAN
BEGIN:VEVENT
DTSTART:20150324T153000Z
DTEND:20150324T170000Z
X-MICROSOFT-CDO-ALLDAYEVENT:FALSE
SUMMARY:Tech Tuesday: Data & Digital Security for Small Business
DESCRIPTION:Data & Digital Security for Small Business\n\nDon't let your business become a target\n\nA Tech Tuesday Program\n\nMarch 24\n\n11:30 AM - 1 PM\n\nChamber Office\n\n$10\n\n\nPresented by Tech Team Members\n\nTom McGuinness of Arrow-SEO and\n\nMark Dreiband of The AME Group\n\n\n\nHow secure is your business? Do you have a digital security plan?\n\nSecurity breaches can happen to both small and large business. Don't become a target and lose the trust of your employees and customers.\n\n\n\nThis 90-minute presentation shows you the simple steps and best practices to use to secure your important information. The session will close with plenty of time for you to get your questions answered.\n\n\n\nTopics to be covered:\n\nHack Prevention and Password Protection\n\nBrowser Security\n\nEmail and Spam\n\nAnti-Virus Protection
X-ALT-DESC;FMTTYPE=text/html:<span style="color:#000080\;"><span style="font-size: 18px\;"><strong>Data &amp\; Digital Security for Small Business</strong></span><br />\n<span style="font-size: 14px\;"><strong>Don&#39\;t let your business become a target</strong></span></span><br />\n<span style="font-size:12px\;"><em>A Tech Tuesday Program</em></span>\n\n<div style="text-align: center\;"><span style="font-size:12px\;"><strong><span style="font-size:14px\;">March 24<br />\n11:30 AM - 1 PM<br />\nChamber Office<br />\n$10</span></strong></span></div>\n<br />\n<span style="font-size:12px\;">Presented by Tech Team Members<br />\nTom McGuinness of Arrow-SEO and<br />\nMark Dreiband of The AME Group<br />\n<br />\n<em>How secure is your business? Do you have a digital security plan?</em><br />\nSecurity breaches can happen to both small and large business. Don&#39\;t become a target and lose the trust of your employees and customers.<br />\n<br />\nThis 90-minute presentation shows you the simple steps and best practices to use to secure your important information. The session will close with plenty of time for you to get your questions answered.<br />\n<br />\nTopics to be covered:<br />\nHack Prevention and Password Protection<br />\nBrowser Security<br />\nEmail and Spam<br />\nAnti-Virus Protection</span>
LOCATION:Noblesville Chamber Offices 601 E. Conner Street Noblesville\, IN 46060
UID:e.1538.852
SEQUENCE:3
DTSTAMP:20260421T082458Z
URL:https://business.noblesvillechamber.com/events/details/tech-tuesday-data-digital-security-for-small-business-852
END:VEVENT

END:VCALENDAR
