BEGIN:VCALENDAR
VERSION:2.0
PRODID:-//ChamberMaster//Event Calendar 2.0//EN
METHOD:PUBLISH
X-PUBLISHED-TTL:P3D
REFRESH-INTERVAL:P3D
CALSCALE:GREGORIAN
BEGIN:VEVENT
DTSTART:20100713T170000Z
DTEND:20100713T170000Z
X-MICROSOFT-CDO-ALLDAYEVENT:FALSE
SUMMARY:Test
DESCRIPTION:Test
X-ALT-DESC;FMTTYPE=text/html:Test
LOCATION:601 E. Conner Street Noblesville\, IN 46060
UID:e.1538.55
SEQUENCE:3
DTSTAMP:20260422T113316Z
URL:https://business.noblesvillechamber.com/events/details/test-07-13-2010-55
END:VEVENT

END:VCALENDAR
