BEGIN:VCALENDAR
VERSION:2.0
PRODID:-//ChamberMaster//Event Calendar 2.0//EN
METHOD:PUBLISH
X-PUBLISHED-TTL:P3D
REFRESH-INTERVAL:P3D
CALSCALE:GREGORIAN
BEGIN:VEVENT
DTSTART:20120503T220000Z
DTEND:20120504T000000Z
X-MICROSOFT-CDO-ALLDAYEVENT:FALSE
SUMMARY:The 7 Steps of Planning for Life
DESCRIPTION:A free interactive workshop providing specific insight and planning information for estate planning\, asset protection planning\, Medicaid planning\, and family protection planning.  Please call in advance to register.  317-863-2030.
X-ALT-DESC;FMTTYPE=text/html:A free interactive workshop providing specific insight and planning information for estate planning\, asset protection planning\, Medicaid planning\, and family protection planning.  Please call in advance to register.  317-863-2030.
LOCATION:The workshop is conducted at the Delaware Township Government Building which is located at 9090 E. 131st Street\, Fishers\, In 46038.
UID:e.1538.278
SEQUENCE:3
DTSTAMP:20260420T235840Z
URL:https://business.noblesvillechamber.com/events/details/the-7-steps-of-planning-for-life-05-03-2012-278
END:VEVENT

END:VCALENDAR
