BEGIN:VCALENDAR
VERSION:2.0
PRODID:-//ChamberMaster//Event Calendar 2.0//EN
METHOD:PUBLISH
X-PUBLISHED-TTL:P3D
REFRESH-INTERVAL:P3D
CALSCALE:GREGORIAN
BEGIN:VEVENT
DTSTART:20120726T220000Z
DTEND:20120727T000000Z
X-MICROSOFT-CDO-ALLDAYEVENT:FALSE
SUMMARY:The 7 Steps of Planning for Life
DESCRIPTION:Hunter Law Office presents a free interactive workshop focusing on "The 7 Steps of Planning for Life".  The workshop helps families plan for life with all its unexpected twists and turns that inevitably take us off course.  We help families and businesses protect assets against unnecessary loss from lawsuits\, nursing homes\, children's indisretions\, estate tax liability\, and provide business succession planning.  PLAN WHILE YOU CAN!  Space is limited so please call in advance to register at 317-863-2030 and visit us on line at hunterlawoffice.net.
X-ALT-DESC;FMTTYPE=text/html:Hunter Law Office presents a free interactive workshop focusing on "The 7 Steps of Planning for Life".  The workshop helps families plan for life with all its unexpected twists and turns that inevitably take us off course.  We help families and businesses protect assets against unnecessary loss from lawsuits\, nursing homes\, children's indisretions\, estate tax liability\, and provide business succession planning.  PLAN WHILE YOU CAN!  Space is limited so please call in advance to register at 317-863-2030 and visit us on line at hunterlawoffice.net.   
LOCATION:The workshop is conducted at the Delaware Township Government Building which is located at 9090 E. 131st Street\, Fishers\, In 46038
UID:e.1538.289
SEQUENCE:3
DTSTAMP:20260420T203825Z
URL:https://business.noblesvillechamber.com/events/details/the-7-steps-of-planning-for-life-07-26-2012-289
END:VEVENT

END:VCALENDAR
