BEGIN:VCALENDAR
VERSION:2.0
PRODID:-//ChamberMaster//Event Calendar 2.0//EN
METHOD:PUBLISH
X-PUBLISHED-TTL:P3D
REFRESH-INTERVAL:P3D
CALSCALE:GREGORIAN
BEGIN:VEVENT
DTSTART:20130726T230000Z
DTEND:20130727T030000Z
X-MICROSOFT-CDO-ALLDAYEVENT:FALSE
SUMMARY:The Black & Gold Marching Band Invitational
DESCRIPTION:The Noblesville High School Marching Millers and the Noblesville Cultural Arts Commission are hosting the third annual Black and Gold Invitational. The competition has a new date\, July 26\, 2013. Just one week before the Indiana State Fair Band Day.\n\n\n\nThis year's Marching competition looks to be bigger and better than ever with twenty bands entered. Marching bands from all over the state of Indiana will converge at Hare Chevrolet Field to perform their 2013 competitive track shows.\n\n\n\nYou will not want to miss this musical extravaganza in the pageantry arts.
X-ALT-DESC;FMTTYPE=text/html:<span style="font-size: large\;">The Noblesville High School Marching Millers and the Noblesville Cultural Arts Commission are hosting the third annual Black and Gold Invitational. The competition has a new date\, July 26\, 2013. Just one week before the Indiana State Fair Band Day.<br />\n<br />\nThis year&#39\;s Marching competition looks to be bigger and better than ever with twenty bands entered. Marching bands from all over the state of Indiana will converge at Hare Chevrolet Field to perform their 2013 competitive track shows.<br />\n<br />\nYou will not want to miss this musical extravaganza in the pageantry arts.</span>
LOCATION:Noblesville's Hare Chevrolet Field Noblesville East Middle School Monument Street & 19th Street
UID:e.1538.452
SEQUENCE:3
DTSTAMP:20260420T021147Z
URL:https://business.noblesvillechamber.com/events/details/the-black-gold-marching-band-invitational-452
END:VEVENT

END:VCALENDAR
