BEGIN:VCALENDAR
VERSION:2.0
PRODID:-//ChamberMaster//Event Calendar 2.0//EN
METHOD:PUBLISH
X-PUBLISHED-TTL:P3D
REFRESH-INTERVAL:P3D
CALSCALE:GREGORIAN
BEGIN:VEVENT
DTSTART:20130920T220000Z
DTEND:20130921T010000Z
X-MICROSOFT-CDO-ALLDAYEVENT:FALSE
SUMMARY:The Cinderella Ball
DESCRIPTION:The Cinderella Ball\, a father-daughter event for young girls between the ages of 5 and 10 years\, will be held at the Palomino Ballroom in Hamilton County on Friday\, September 20 from 6-9 pm.\n\n	 \n\n	The three-hour event consists of a dinner\, horse-drawn carriage ride\, ballroom dance lesson\, craft\, entertainment\, souvenir photo\, and commemorative tee shirt. Cinderella and Prince Charming will also be on hand to interact with their royal guests.\n\n	 \n\n	The event is designed to help foster healthy family relationships between fathers and their daughters. The Cinderella Ball also offers young ladies an opportunity to make a difference in their community by bringing a donation for a local nonprofit organization. Princesses are encouraged to bring a donation for Bona Vista's Early Childhood Services to the September 20 event.\n\n	 \n\n	Tickets for The Cinderella Ball are $75 per person. Parents may sign up to receive an invitation online at  www.thecinderellaball.com. Once the invitation is received parents may register by mailing in their invitation and payment to Bona Vista.\n\n	\n		\n			\n				\n					 \n				\n					\n						   \n					\n						Where & When\n\n						Palomino Ballroom\n\n						481 South County Road 1200 East\n\n						Zionsville\, IN 46077\n\n						September 20\, 2013\n\n						6:00 PM-9:00 PM\n					\n						  \n				\n			\n		\n	\n\n\n	  \nThe committee is currently looking for sponsors! Sponsorship opportunities are at the following levels- Royal Sponsor ($3\,000)\, Corporate Sponsor ($1000)\, Activity Sponsor ($500) and Tee shirt sponsor ($150).\n\n\n\nFor more information contact Brittnee Burton at  bburton@bonavista.org or call 765-457-8273.
X-ALT-DESC;FMTTYPE=text/html:<p class="MsoNormal" style="margin-left: 10px\; margin-right: 6px\; margin-top: 0\; margin-bottom: 0">\n	<font color="#666666" face="Arial" style="font-size: 9pt">The Cinderella Ball\, a father-daughter event for young girls between the ages of 5 and 10 years\, will be held at the Palomino Ballroom in Hamilton County on Friday\, September 20 from 6-9 pm.<br />\n	&nbsp\;<br />\n	The three-hour event consists of a dinner\, horse-drawn carriage ride\, ballroom dance lesson\, craft\, entertainment\, souvenir photo\, and commemorative tee shirt. Cinderella and Prince Charming will also be on hand to interact with their royal guests.<br />\n	&nbsp\;<br />\n	The event is designed to help foster healthy family relationships between fathers and their daughters. The Cinderella Ball also offers young ladies an opportunity to make a difference in their community by bringing a donation for a local nonprofit organization. Princesses are encouraged to bring a donation for Bona Vista&#39\;s Early Childhood Services to the September 20 event.<br />\n	&nbsp\;<br />\n	Tickets for The Cinderella Ball are $75 per person. Parents may sign up to receive an invitation online at <a href="http://www.thecinderellaball.com"><font color="#6699CC"> www.thecinderellaball.com</font></a>. Once the invitation is received parents may register by mailing in their invitation and payment to Bona Vista.</font></p>\n<div align="center">\n	<table border="0" cellspacing="1" id="table13" width="568">\n		<tbody>\n			<tr>\n				<td valign="top">\n					&nbsp\;</td>\n				<td width="528">\n					<p style="margin-top: 0\; margin-bottom: 0">\n						<font face="Arial">&nbsp\;</font><font color="#666666" face="Arial" style="font-size: 9pt">&nbsp\; </font></p>\n					<p style="margin-top: 0\; margin-bottom: 0">\n						<font color="#6699CC" face="Arial" style="font-size: 11pt\; font-weight:700">Where &amp\; When</font><br />\n						<font color="#666666" face="Arial" style="font-size: 9pt"><b>Palomino Ballroom</b><br />\n						481 South County Road 1200 East<br />\n						Zionsville\, IN 46077<br />\n						September 20\, 2013<br />\n						6:00 PM-9:00 PM</font></p>\n					<p style="margin-top: 0\; margin-bottom: 0">\n						<font color="#666666" face="Arial" style="font-size: 9pt">&nbsp\; </font></p>\n				</td>\n			</tr>\n		</tbody>\n	</table>\n</div>\n<p align="left" class="MsoNormal" style="margin-left: 10px\; margin-right: 6px\; margin-top: 0\; margin-bottom: 0">\n	<font color="#666666" face="Arial" style="font-size: 9pt">&nbsp\; </font></p>\n<font color="#666666" face="Arial" style="font-size: 9pt">The committee is currently looking for sponsors! Sponsorship opportunities are at the following levels- Royal Sponsor ($3\,000)\, Corporate Sponsor ($1000)\, Activity Sponsor ($500) and Tee shirt sponsor ($150).<br />\n<br />\nFor more information contact Brittnee Burton at</font><font color="#6699CC" face="Arial" style="font-size: 9pt"> </font> <font color="#666666" face="Arial" style="font-size: 9pt"><a href="mailto:bburton@bonavista.org"><font color="#6699CC">bburton@bonavista.org</font></a> or call 765-457-8273.</font>
LOCATION:Palomino Ballroom 481 South County Road 1200 East Zionsville\, IN 46077
UID:e.1538.508
SEQUENCE:3
DTSTAMP:20260419T232823Z
URL:https://business.noblesvillechamber.com/events/details/the-cinderella-ball-508
END:VEVENT

END:VCALENDAR
