BEGIN:VCALENDAR
VERSION:2.0
PRODID:-//ChamberMaster//Event Calendar 2.0//EN
METHOD:PUBLISH
X-PUBLISHED-TTL:P3D
REFRESH-INTERVAL:P3D
CALSCALE:GREGORIAN
BEGIN:VEVENT
DTSTART:20140419T130000Z
DTEND:20140419T160000Z
X-MICROSOFT-CDO-ALLDAYEVENT:FALSE
SUMMARY:The Farmers Bank Community Shred Day
DESCRIPTION:The Farmers Bank will hold it's Community Shred Day on April 19th from 9 am to 12 noon.  Bring in your old papers to be shredded at no cost.
X-ALT-DESC;FMTTYPE=text/html:The Farmers Bank will hold it&#39\;s Community Shred Day on April 19th from 9 am to 12 noon.&nbsp\; Bring in your old papers to be shredded at no cost.&nbsp\;
LOCATION:Farmers Bank is located at 16940 Clover Road in front of Walmart in Noblesville
UID:e.1538.585
SEQUENCE:3
DTSTAMP:20260419T132727Z
URL:https://business.noblesvillechamber.com/events/details/the-farmers-bank-community-shred-day-585
END:VEVENT

END:VCALENDAR
