BEGIN:VCALENDAR
VERSION:2.0
PRODID:-//ChamberMaster//Event Calendar 2.0//EN
METHOD:PUBLISH
X-PUBLISHED-TTL:P3D
REFRESH-INTERVAL:P3D
CALSCALE:GREGORIAN
BEGIN:VEVENT
DTSTART:20101013T150000Z
DTEND:20101013T223000Z
X-MICROSOFT-CDO-ALLDAYEVENT:FALSE
SUMMARY:The Farmers Bank Hard Hat Preview
DESCRIPTION:This will be a "Hard Hat Preview" of our new banking office that will be opening in November 2010.  The event will be on Wednesday\, October 12th from 11:00am - 1:30pm and 4:30pm - 6:30pm.  We will be offering tours of our new Noblesville office as it will still be under construction.  We will have refreshements catered by Sahm's Restaurant.  We will have door prizes for everyone who attends and a chance to register for a grand prize.  We are inviting everyone in the community to come out and mix & mingle with The Farmers Bank management and The Farmers Bank Noblesville office staff.
X-ALT-DESC;FMTTYPE=text/html:This will be a "Hard Hat Preview" of our new banking office that will be opening in November 2010.  The event will be on Wednesday\, October 12th from 11:00am - 1:30pm and 4:30pm - 6:30pm.  We will be offering tours of our new Noblesville office as it will still be under construction.  We will have refreshements catered by Sahm's Restaurant.  We will have door prizes for everyone who attends and a chance to register for a grand prize.  We are inviting everyone in the community to come out and mix & mingle with The Farmers Bank management and The Farmers Bank Noblesville office staff.
LOCATION:16940 Clover Road Noblesville\, IN 46060-3643 (The former Donato's Pizza Restaurant)
UID:e.1538.78
SEQUENCE:3
DTSTAMP:20260422T062757Z
URL:https://business.noblesvillechamber.com/events/details/the-farmers-bank-hard-hat-preview-10-13-2010-78
END:VEVENT

END:VCALENDAR
