BEGIN:VCALENDAR
VERSION:2.0
PRODID:-//ChamberMaster//Event Calendar 2.0//EN
METHOD:PUBLISH
X-PUBLISHED-TTL:P3D
REFRESH-INTERVAL:P3D
CALSCALE:GREGORIAN
BEGIN:VEVENT
DTSTART:20120615T220000Z
DTEND:20120615T220000Z
X-MICROSOFT-CDO-ALLDAYEVENT:FALSE
SUMMARY:The Hamilton County Country Dinner Show Jamboree
DESCRIPTION:Enjoy a southern fried chicken dinner and then sit back and enjoy an evening of entertainment featuring MUSIC\, COMEDY\, GAMES\, and even an OLD FASHIONED SING-A-LONG.\n\nDon't miss out on this foot-stomping\, hand-clapping\, rip-snorting\, belly-laughing night of FOOD & Fun!\n\nTWO PERFORMANCES ONLY!\nFriday\, June 15th & Saturday\, June 16th\n\nDoors open at 6:00 pm -- Dinner at 6:30 pm -- Show at 7:45 pm\n\n$12 Per Person\n\nReserved Seat Tickets on sale NOW!  VISA/MC accepted.\n\n(Group rates available for groups of 8 or more)
X-ALT-DESC;FMTTYPE=text/html:Enjoy a southern fried chicken dinner and then sit back and enjoy an evening of entertainment featuring MUSIC\, COMEDY\, GAMES\, and even an OLD FASHIONED SING-A-LONG.\n\nDon't miss out on this foot-stomping\, hand-clapping\, rip-snorting\, belly-laughing night of FOOD & Fun!\n\nTWO PERFORMANCES ONLY!\nFriday\, June 15th & Saturday\, June 16th\n\nDoors open at 6:00 pm -- Dinner at 6:30 pm -- Show at 7:45 pm\n\n$12 Per Person\n\nReserved Seat Tickets on sale NOW!  VISA/MC accepted.\n\n(Group rates available for groups of 8 or more)
LOCATION:Chapel North 2140 Greenfield Ave. Noblesville\, IN 46060
UID:e.1538.283
SEQUENCE:3
DTSTAMP:20260420T221546Z
URL:https://business.noblesvillechamber.com/events/details/the-hamilton-county-country-dinner-show-jamboree-06-15-2012-283
END:VEVENT

END:VCALENDAR
