BEGIN:VCALENDAR
VERSION:2.0
PRODID:-//ChamberMaster//Event Calendar 2.0//EN
METHOD:PUBLISH
X-PUBLISHED-TTL:P3D
REFRESH-INTERVAL:P3D
CALSCALE:GREGORIAN
BEGIN:VEVENT
DTSTART:20130823T140000Z
DTEND:20130823T160000Z
X-MICROSOFT-CDO-ALLDAYEVENT:FALSE
SUMMARY:The Seven Steps for Planning for Life
DESCRIPTION:Hunter Law Office at 10412 Allisonville Road\, Suite 113 in Fishers will present a free interactive workshop on "The 7 Steps for Planning for Life."  The workshop helps families plan for life with all its unexpected twists and turns that inevitably take us off course.  We help families and businesses protect assets against unnecessary loss from lawsuits\, nursing home costs\, children's indiscretions\, estate tax liability\, and provide business succession planning.  PLAN WHILE YOU CAN!  Space is limited\, so please call in advance to register at 317-863-2030 or visit us online at www.hunterlawoffice.net  Hunter Law Office is a member of the Noblesville Chamber.
X-ALT-DESC;FMTTYPE=text/html:Hunter Law Office at 10412 Allisonville Road\, Suite 113 in Fishers will present a free interactive workshop on &quot\;The 7 Steps for Planning for Life.&quot\;&nbsp\; The workshop helps families plan for life with all its unexpected twists and turns that inevitably take us off course.&nbsp\; We help families and businesses protect assets against unnecessary loss from lawsuits\, nursing home costs\, children&#39\;s indiscretions\, estate tax liability\, and provide business succession planning.&nbsp\; PLAN WHILE YOU CAN!&nbsp\; Space is limited\, so please call in advance to register at 317-863-2030 or visit us online at www.hunterlawoffice.net&nbsp\; Hunter Law Office is a member of the Noblesville Chamber.
LOCATION:Hunter Law Office\, 10412 Allisonville Road\, Suite 113\, Fishers
UID:e.1538.512
SEQUENCE:3
DTSTAMP:20260420T004245Z
URL:https://business.noblesvillechamber.com/events/details/the-seven-steps-for-planning-for-life-512
END:VEVENT

END:VCALENDAR
