BEGIN:VCALENDAR
VERSION:2.0
PRODID:-//ChamberMaster//Event Calendar 2.0//EN
METHOD:PUBLISH
X-PUBLISHED-TTL:P3D
REFRESH-INTERVAL:P3D
CALSCALE:GREGORIAN
BEGIN:VEVENT
DTSTART:20131121T230000Z
DTEND:20131122T030000Z
X-MICROSOFT-CDO-ALLDAYEVENT:FALSE
SUMMARY:Tinsel & Tails
DESCRIPTION:Join the Humane Society for Hamilton County for our annual Tinsel & Tails Holiday Petacular\, an evening you will never forget. The night begins at 6:00 p.m. with delicious hors d'oeuvres and an amazing selection of silent auction items. Dinner begins at 7:30 p.m.\, followed by a must see\, heart-warming presentation featuring the year's most amazing pet adoption and survival stories. \n\n	 \n\n	Silent auction items include everything from autographed sports memorabilia\, art work\, gift certificates for upscale dining\, spa packages\, golf packages\, pet gifts\, jewelry\, travel and more. \n\n	 \n\n	All proceeds benefit the Humane Society for Hamilton County.\n\n	 \n\n	A cash bar will be available.
X-ALT-DESC;FMTTYPE=text/html:<span style="font-family: &quot\;Tahoma&quot\;\,&quot\;sans-serif&quot\;\; font-size: 12pt\; mso-fareast-font-family: &quot\;Times New Roman&quot\;\;"><font color="#000000">Join the Humane Society for Hamilton County for our annual Tinsel &amp\; Tails Holiday Petacular\, an evening you will never forget. The night begins at 6:00 p.m. with delicious hors d&#39\;oeuvres and an amazing selection of silent auction items. Dinner begins at 7:30 p.m.\, followed by a must see\, heart-warming presentation featuring the year&rsquo\;s most amazing pet adoption and survival stories.<o:p></o:p></font></span><font color="#000000" face="Times New Roman" size="3"> </font>\n<p class="MsoNormal" style="margin: 0in 0in 0pt\; line-height: normal\;">\n	<span style="font-family: &quot\;Tahoma&quot\;\,&quot\;sans-serif&quot\;\; font-size: 12pt\; mso-fareast-font-family: &quot\;Times New Roman&quot\;\;"><o:p><font color="#000000">&nbsp\;</font></o:p></span></p>\n<p class="MsoNormal" style="margin: 0in 0in 0pt\; line-height: normal\;">\n	<span style="font-family: &quot\;Tahoma&quot\;\,&quot\;sans-serif&quot\;\; font-size: 12pt\; mso-fareast-font-family: &quot\;Times New Roman&quot\;\;"><font color="#000000">Silent auction items include everything from autographed sports memorabilia\, art work\, gift certificates for upscale dining\, spa packages\, golf packages\, pet gifts\, jewelry\, travel and more. <o:p></o:p></font></span></p>\n<p class="MsoNormal" style="margin: 0in 0in 0pt\; line-height: normal\;">\n	<span style="font-family: &quot\;Tahoma&quot\;\,&quot\;sans-serif&quot\;\; font-size: 12pt\; mso-fareast-font-family: &quot\;Times New Roman&quot\;\;"><o:p><font color="#000000">&nbsp\;</font></o:p></span></p>\n<p class="MsoNormal" style="margin: 0in 0in 0pt\; line-height: normal\;">\n	<span style="font-family: &quot\;Tahoma&quot\;\,&quot\;sans-serif&quot\;\; font-size: 12pt\; mso-fareast-font-family: &quot\;Times New Roman&quot\;\;"><font color="#000000">All proceeds benefit the Humane Society for Hamilton County.<o:p></o:p></font></span></p>\n<p class="MsoNormal" style="margin: 0in 0in 0pt\; line-height: normal\;">\n	<span style="font-family: &quot\;Tahoma&quot\;\,&quot\;sans-serif&quot\;\; font-size: 12pt\; mso-fareast-font-family: &quot\;Times New Roman&quot\;\;"><o:p><font color="#000000">&nbsp\;</font></o:p></span></p>\n<p class="MsoNormal" style="margin: 0in 0in 0pt\; line-height: normal\;">\n	<span style="font-family: &quot\;Tahoma&quot\;\,&quot\;sans-serif&quot\;\; font-size: 12pt\; mso-fareast-font-family: &quot\;Times New Roman&quot\;\;"><font color="#000000">A cash bar will be available.<o:p></o:p></font></span></p>\n
LOCATION:Ritz Charles 12156 North Meridian Street Carmel\, IN 46032
UID:e.1538.541
SEQUENCE:3
DTSTAMP:20260419T201006Z
URL:https://business.noblesvillechamber.com/events/details/tinsel-tails-541
END:VEVENT

END:VCALENDAR
