BEGIN:VCALENDAR
VERSION:2.0
PRODID:-//ChamberMaster//Event Calendar 2.0//EN
METHOD:PUBLISH
X-PUBLISHED-TTL:P3D
REFRESH-INTERVAL:P3D
CALSCALE:GREGORIAN
BEGIN:VEVENT
DTSTART:20110611T170000Z
DTEND:20110611T190000Z
X-MICROSOFT-CDO-ALLDAYEVENT:FALSE
SUMMARY:Troopers Drum & Bugle Corp
DESCRIPTION:See them live at Conner Prairie during 1863 Civil War Journey opening week! The Troopers Drum & Bugle Corp\, named Wyoming's Musical Ambassadors\, will preview their competitive musical talents ahead of this summer's Drum Corp International Summer Music Games. \n\nFor all the details of this talented youth group visit www.troopersdrumcorps.org
X-ALT-DESC;FMTTYPE=text/html:See them live at Conner Prairie during 1863 Civil War Journey opening week! The Troopers Drum & Bugle Corp\, named Wyoming's Musical Ambassadors\, will preview their competitive musical talents ahead of this summer's Drum Corp International Summer Music Games. \n\nFor all the details of this talented youth group visit www.troopersdrumcorps.org\n
LOCATION:Conner Prairie
UID:e.1538.174
SEQUENCE:3
DTSTAMP:20260421T172533Z
URL:https://business.noblesvillechamber.com/events/details/troopers-drum-bugle-corp-06-11-2011-174
END:VEVENT

END:VCALENDAR
