BEGIN:VCALENDAR
VERSION:2.0
PRODID:-//ChamberMaster//Event Calendar 2.0//EN
METHOD:PUBLISH
X-PUBLISHED-TTL:P3D
REFRESH-INTERVAL:P3D
CALSCALE:GREGORIAN
BEGIN:VEVENT
DTSTART:20110502T213000Z
DTEND:20110502T223000Z
X-MICROSOFT-CDO-ALLDAYEVENT:FALSE
SUMMARY:UNDERSTANDING YOUR SOCIAL SECURITY BENEFITS
DESCRIPTION:It doesn't matter if you are going to retire in 5 years or 25 years\, if you are interested in learning more about Social Security retirement and survivor benefits\, please plan on attending a FREE educational seminar presented by Community Bank. Issues that will be discussed include: How and when to apply for retirement or survivor benefits\; when is the best age to start benefits\; understanding annual Social Security Statements\; taxation of benefits\; inflation and your benefits\; how your benefits are affected by other retirement income\; disability and Medicare benefits\; and Social Security's online services options. This program will be presented by John Williams from the Social Security Administration. Seating is limited.\nPlease RSVP at 317-813-0974.
X-ALT-DESC;FMTTYPE=text/html: It doesn't matter if you are going to retire in 5 years or 25 years\, if you are interested in learning more about Social Security retirement and survivor benefits\, please plan on attending a FREE educational seminar presented by Community Bank. Issues that will be discussed include: How and when to apply for retirement or survivor benefits\; when is the best age to start benefits\; understanding annual Social Security Statements\; taxation of benefits\; inflation and your benefits\; how your benefits are affected by other retirement income\; disability and Medicare benefits\; and Social Security's online services options. This program will be presented by John Williams from the Social Security Administration. Seating is limited.\nPlease RSVP at 317-813-0974. 
LOCATION:Community Bank office in the Noble Creek Plaza on the Northwest corner of State Rd 37 and Pleasant Street
UID:e.1538.169
SEQUENCE:3
DTSTAMP:20260421T185750Z
URL:https://business.noblesvillechamber.com/events/details/understanding-your-social-security-benefits-05-02-2011-169
END:VEVENT

END:VCALENDAR
