BEGIN:VCALENDAR
VERSION:2.0
PRODID:-//ChamberMaster//Event Calendar 2.0//EN
METHOD:PUBLISH
X-PUBLISHED-TTL:P3D
REFRESH-INTERVAL:P3D
CALSCALE:GREGORIAN
BEGIN:VEVENT
DTSTART:20101016T160000Z
DTEND:20101016T160000Z
X-MICROSOFT-CDO-ALLDAYEVENT:FALSE
SUMMARY:WALK FOR HOPE
DESCRIPTION:Cancer Service of Hamilton County LLC will host its 3rd annual WALK FOR HOPE to help raise money for Cancer Patients. The event is a 1 K - 5K WALK...Entry fee $30.00 per person : Children walk for free - Donations are Tax Deductable\,  (Co Sponsor Fees are $200.00)...
X-ALT-DESC;FMTTYPE=text/html:Cancer Service of Hamilton County LLC will host its 3rd annual WALK FOR HOPE to help raise money for Cancer Patients. The event is a 1 K - 5K WALK...Entry fee $30.00 per person : Children walk for free - Donations are Tax Deductable\,  (Co Sponsor Fees are $200.00)...
LOCATION:Location of the event is the North View Christian Life Church Main Street & Hazel Dell Road Carmel\, IN ... For more information 317 776 1519... Registration forms: www.hamiltoncountyveterans.com
UID:e.1538.67
SEQUENCE:3
DTSTAMP:20260422T062357Z
URL:https://business.noblesvillechamber.com/events/details/walk-for-hope-10-16-2010-67
END:VEVENT

END:VCALENDAR
